BEGIN:VCALENDAR
VERSION:2.0
PRODID:-//ChamberMaster//Event Calendar 2.0//EN
METHOD:PUBLISH
X-PUBLISHED-TTL:P3D
REFRESH-INTERVAL:P3D
CALSCALE:GREGORIAN
BEGIN:VEVENT
DTSTART:19800101T060000Z
DTEND:19800101T060000Z
X-MICROSOFT-CDO-ALLDAYEVENT:FALSE
SUMMARY:2002 Area Business Connection
DESCRIPTION:2002 Area Business Connection
X-ALT-DESC;FMTTYPE=text/html:2002 Area Business Connection                                                                       
LOCATION:Peoria Civic Center
UID:e.1773.566
SEQUENCE:3
DTSTAMP:20260421T225814Z
URL:https://business.peoriachamber.org/events/details/2002-area-business-connection-01-01-1980-566
END:VEVENT

END:VCALENDAR
