BEGIN:VCALENDAR
VERSION:2.0
PRODID:-//ChamberMaster//Event Calendar 2.0//EN
METHOD:PUBLISH
X-PUBLISHED-TTL:P3D
REFRESH-INTERVAL:P3D
CALSCALE:GREGORIAN
BEGIN:VEVENT
DTSTART:20201119T174500Z
DTEND:20201119T190000Z
X-MICROSOFT-CDO-ALLDAYEVENT:FALSE
SUMMARY:2020 Community Thanksgiving Luncheon
DESCRIPTION:Tune in for the 2020 Virtual Community Thanksgiving Luncheon sponsored by Caterpillar on Thursday\, November 19\, 2020. Log on at 11:45 a.m.\, Presentation & Speakers will begin at 12:00 p.m. We encourage you to coordinate delivery or takeout for your virtual table from a Peoria Area Chamber Member Restaurant while reflecting on 2020 and all that we can be grateful for in Peoria. This year marks the 45th year we have celebrated our members and shared community achievements. While it may look different this year as a Virtual Experience\, the gratitude is the same!\n\n\n\nThe annual award winners will also be recognized at this time for ATHENA\, Young Professional ATHENA\, Community Wealth\, Outstanding Small Business (1-25 employees and 26-150 employees) and Tom Connor Service Award. \n\n\n\nRegistration closes on Thursday\, November 12\, 2020 at 5:00 p.m.
X-ALT-DESC;FMTTYPE=text/html:<span style="font-family:arial\;"><span style="color:#FF8C00\;"><span style="font-size:14px\;">Tune in for the 2020 Virtual Community Thanksgiving Luncheon sponsored by Caterpillar on Thursday\, November 19\, 2020. Log on at 11:45 a.m.\, Presentation &amp\; Speakers will begin at 12:00 p.m. We encourage you to coordinate delivery or takeout for your virtual table from a <strong><a href="https://business.peoriachamber.org/list/ql/restaurants-food-beverages-70">Peoria Area Chamber Member Restaurant</a></strong>&nbsp\;while reflecting on 2020 and all that we can be grateful for in Peoria. This year marks the 45th year we have celebrated our members and shared community achievements. While it may look different this year as a Virtual Experience\, the gratitude is the same!<br />\n<br />\nThe annual award winners will also be recognized at this time for ATHENA\, Young Professional ATHENA\, Community Wealth\, Outstanding Small Business (1-25 employees and 26-150 employees) and Tom Connor Service Award. </span></span><br />\n<br />\n<span style="color:#FF0000\;"><span style="font-size:14px\;"><u><strong>Registration closes on Thursday\, November 12\, 2020 at 5:00 p.m.</strong></u></span></span></span>
LOCATION:Virtual
UID:e.1773.19113
SEQUENCE:3
DTSTAMP:20260425T112635Z
URL:https://business.peoriachamber.org/events/details/2020-community-thanksgiving-luncheon-19113
END:VEVENT

END:VCALENDAR
