BEGIN:VCALENDAR
VERSION:2.0
PRODID:-//ChamberMaster//Event Calendar 2.0//EN
METHOD:PUBLISH
X-PUBLISHED-TTL:P3D
REFRESH-INTERVAL:P3D
CALSCALE:GREGORIAN
BEGIN:VEVENT
DTSTART:20250724T223000Z
DTEND:20250912T020000Z
X-MICROSOFT-CDO-ALLDAYEVENT:FALSE
SUMMARY:8-Week Pottery Series- Thursday Evening Class (July 24- Sept 11\, 2025)
DESCRIPTION:Learn the basics of the pottery wheel or take your throwing and hand building skills to the next level! This 8 week recurring class will give students the opportunity to work in an open studio environment\, creating functional and food safe art. Each week features throwing demonstrations\, unique hand building opportunities and individual instruction. Each student will need to purchase a basic clay tool kit. Ages 17+
X-ALT-DESC;FMTTYPE=text/html:Learn the basics of the pottery wheel or take your throwing and hand building skills to the next level! This 8 week recurring class will give students the opportunity to work in an open studio environment\, creating functional and food safe art. Each week features throwing demonstrations\, unique hand building opportunities and individual instruction. Each student will need to purchase a basic clay tool kit. Ages 17+
LOCATION:Peoria Art Guild Downtown Location 203 Harrison St\, Peoria\, IL\, 61602\, United States
UID:e.1773.22545
SEQUENCE:3
DTSTAMP:20260421T162555Z
URL:https://business.peoriachamber.org/events/details/8-week-pottery-series-thursday-evening-class-july-24-sept-11-2025-22545
END:VEVENT

END:VCALENDAR
