BEGIN:VCALENDAR
VERSION:2.0
PRODID:-//ChamberMaster//Event Calendar 2.0//EN
METHOD:PUBLISH
X-PUBLISHED-TTL:P3D
REFRESH-INTERVAL:P3D
CALSCALE:GREGORIAN
BEGIN:VEVENT
DTSTART:20250723T223000Z
DTEND:20250911T020000Z
X-MICROSOFT-CDO-ALLDAYEVENT:FALSE
SUMMARY:8-Week Pottery Series- Tuesday Evening Class (July 22- Sept 9\, 2025)
DESCRIPTION:Learn the basics of the pottery wheel or take your throwing and hand building skills to the next level! This 8 week recurring class will give students the opportunity to work in an open studio environment\, creating functional and food safe art. Each week features throwing demonstrations\, unique hand building opportunities and individual instruction. Each student will need to purchase a basic clay tool kit. Ages 17+
X-ALT-DESC;FMTTYPE=text/html:Learn the basics of the pottery wheel or take your throwing and hand building skills to the next level! This 8 week recurring class will give students the opportunity to work in an open studio environment\, creating functional and food safe art. Each week features throwing demonstrations\, unique hand building opportunities and individual instruction. Each student will need to purchase a basic clay tool kit. Ages 17+
LOCATION:203 Harrison St\, Peoria\, IL\, 61602\, United States
UID:e.1773.22544
SEQUENCE:3
DTSTAMP:20260421T162647Z
URL:https://business.peoriachamber.org/events/details/8-week-pottery-series-tuesday-evening-class-july-22-sept-9-2025-22544
END:VEVENT

END:VCALENDAR
