BEGIN:VCALENDAR
VERSION:2.0
PRODID:-//ChamberMaster//Event Calendar 2.0//EN
METHOD:PUBLISH
X-PUBLISHED-TTL:P3D
REFRESH-INTERVAL:P3D
CALSCALE:GREGORIAN
BEGIN:VEVENT
DTSTART:20241220T013000Z
DTEND:20241222T200000Z
X-MICROSOFT-CDO-ALLDAYEVENT:FALSE
SUMMARY:A Jolly Holiday Adventure
DESCRIPTION:Peoria Players and the Peoria Area Performing Arts School are at it again! After a successful premiere in 2023\, A Jolly Holiday Adventure returns to feature all the singing\, dancing\, merriment and holiday tunes you know and love! This Central Illinois family tradition is not to be missed!
X-ALT-DESC;FMTTYPE=text/html:Peoria Players and the Peoria Area Performing Arts School are at it again! After a successful premiere in 2023\, A Jolly Holiday Adventure returns to feature all the singing\, dancing\, merriment and holiday tunes you know and love! This Central Illinois family tradition is not to be missed!
LOCATION:Peoria Players Theatre 4300 N. University In Lakeview Park
UID:e.1773.22247
SEQUENCE:3
DTSTAMP:20260424T065554Z
URL:https://business.peoriachamber.org/events/details/a-jolly-holiday-adventure-12-19-2024-22247
END:VEVENT

END:VCALENDAR
