BEGIN:VCALENDAR
VERSION:2.0
PRODID:-//ChamberMaster//Event Calendar 2.0//EN
METHOD:PUBLISH
X-PUBLISHED-TTL:P3D
REFRESH-INTERVAL:P3D
CALSCALE:GREGORIAN
BEGIN:VEVENT
DTSTART:20250723T230000Z
DTEND:20250724T010000Z
X-MICROSOFT-CDO-ALLDAYEVENT:FALSE
SUMMARY:Acrylic Paint Marker Portraits Kids & Teen
DESCRIPTION:This is a 2 week long course that runs every Wednesday from July 23 to July 30 at 6:00PM to 8:00PM. Looking for a unique kind of portraiture? Creating portraits using Paint Pens can be a great way to add some color and chaotic personality to a drawing! Whether it?s a family member\, or one of your favorite characters\, we?ll be creating portraits using a unique\, but tricky material.\nMaterials provided by student: 1 printed self portrait and 1 printed other portrait (printed on regular copy paper)\nMaterials provided by Peoria Art Guild: Paper\, paint pens\nAges 6-17
X-ALT-DESC;FMTTYPE=text/html:This is a 2 week long course that runs every Wednesday from July 23 to July 30 at 6:00PM to 8:00PM. Looking for a unique kind of portraiture? Creating portraits using Paint Pens can be a great way to add some color and chaotic personality to a drawing! Whether it?s a family member\, or one of your favorite characters\, we?ll be creating portraits using a unique\, but tricky material.\nMaterials provided by student: 1 printed self portrait and 1 printed other portrait (printed on regular copy paper)\nMaterials provided by Peoria Art Guild: Paper\, paint pens\nAges 6-17
LOCATION:Peoria Art Guild at The Shoppes at the Grand Prairie 5201 West War Memorial Drive\, Peoria\, IL 61615\, USA
UID:e.1773.22577
SEQUENCE:3
DTSTAMP:20260421T192651Z
URL:https://business.peoriachamber.org/events/details/acrylic-paint-marker-portraits-kids-teen-22577
END:VEVENT

END:VCALENDAR
