BEGIN:VCALENDAR
VERSION:2.0
PRODID:-//ChamberMaster//Event Calendar 2.0//EN
METHOD:PUBLISH
X-PUBLISHED-TTL:P3D
REFRESH-INTERVAL:P3D
CALSCALE:GREGORIAN
BEGIN:VEVENT
DTSTART:20250606T130000Z
DTEND:20250606T190000Z
X-MICROSOFT-CDO-ALLDAYEVENT:FALSE
SUMMARY:Adult & Teen Challenge Summer Golf Classic
DESCRIPTION:The 5th Annual Adult & Teen Challenge Summer Golf Classic is coming up on Friday\, June 6\, at the Metamora Fields Golf Club\; 8:00 am start. Hole in one prizes include a 2025 Chevy Silverado (courtesy of Ray Dennison Chevrolet)\, $25\,000 & $10\,000 cash! Assemble your team and come out to swing for a great cause. Proceeds from the event go to further the work and ministry of Adult & Teen Challenge as we fight the war on drugs and take back our communities.
X-ALT-DESC;FMTTYPE=text/html:The 5th Annual Adult &amp\; Teen Challenge Summer Golf Classic is coming up on Friday\, June 6\, at the Metamora Fields Golf Club\; 8:00 am start. Hole in one prizes include a 2025 Chevy Silverado (courtesy of Ray Dennison Chevrolet)\, $25\,000 &amp\; $10\,000 cash! Assemble your team and come out to swing for a great cause. Proceeds from the event go to further the work and ministry of Adult &amp\; Teen Challenge as we fight the war on drugs and take back our communities.
LOCATION:Metamora Fields Golf Club 801 W. Progress St. Metamora
UID:e.1773.22479
SEQUENCE:3
DTSTAMP:20260421T204001Z
URL:https://business.peoriachamber.org/events/details/adult-teen-challenge-summer-golf-classic-06-06-2025-22479
END:VEVENT

END:VCALENDAR
