BEGIN:VCALENDAR
VERSION:2.0
PRODID:-//ChamberMaster//Event Calendar 2.0//EN
METHOD:PUBLISH
X-PUBLISHED-TTL:P3D
REFRESH-INTERVAL:P3D
CALSCALE:GREGORIAN
BEGIN:VEVENT
DTSTART:20250911T203000Z
DTEND:20250911T220000Z
X-MICROSOFT-CDO-ALLDAYEVENT:FALSE
SUMMARY:Al Innovation at Bradley
DESCRIPTION:The Turner Center Al U Student Team\, the Al Club at Bradley University\, and Jacques Potts - Bradley alum and Al Specialist - are teaming up for an exclusive\, high-impact event for Bradley students\, faculty\, staff\, community members\, and business owners Sept.11 from 3:30-5pm. Join us to explore how Al is transforming the way we learn\, work\, and innovate. Jacques will share: *Inspiration for Bradley students looking to build Al skills for their future careers *Education in Al for everyone from beginners to experienced users *Real-world applications for business owners to save time\, improve efficiency\, and grow faster. Come discover why Al is not just a tech trend\, but a practical tool shaping our world right now.
X-ALT-DESC;FMTTYPE=text/html:The Turner Center Al U Student Team\, the Al Club at Bradley University\, and Jacques Potts - Bradley alum and Al Specialist - are teaming up for an exclusive\, high-impact event for Bradley students\, faculty\, staff\, community members\, and business owners Sept.11 from 3:30-5pm. Join us to explore how Al is transforming the way we learn\, work\, and innovate. Jacques will share: *Inspiration for Bradley students looking to build Al skills for their future careers *Education in Al for everyone from beginners to experienced users *Real-world applications for business owners to save time\, improve efficiency\, and grow faster. Come discover why Al is not just a tech trend\, but a practical tool shaping our world right now.
LOCATION:BECC 1130 Bradley University Campus\, Business and Engineering Convergence Center\, 1500 W Main St\, Peoria\, IL.
UID:e.1773.22636
SEQUENCE:3
DTSTAMP:20260421T193052Z
URL:https://business.peoriachamber.org/events/details/al-innovation-at-bradley-22636
END:VEVENT

END:VCALENDAR
