BEGIN:VCALENDAR
VERSION:2.0
PRODID:-//ChamberMaster//Event Calendar 2.0//EN
METHOD:PUBLISH
X-PUBLISHED-TTL:P3D
REFRESH-INTERVAL:P3D
CALSCALE:GREGORIAN
BEGIN:VEVENT
DTSTART:20250710T230000Z
DTEND:20250801T010000Z
X-MICROSOFT-CDO-ALLDAYEVENT:FALSE
SUMMARY:Artistic Storytelling: Character Design
DESCRIPTION:Are you an aspiring comic artist\, graphic novelist\, or animator? Have you ever wanted to make your characters come to life? In this design course\, we?ll be creating character turnarounds\, revising drafts\, and getting into the nitty-gritty of your original characters. Expect to implement your character?s personality into a well thought-out and harmonious design\, which we will showcase to each other at the end. Ages 18+
X-ALT-DESC;FMTTYPE=text/html:Are you an aspiring comic artist\, graphic novelist\, or animator? Have you ever wanted to make your characters come to life? In this design course\, we?ll be creating character turnarounds\, revising drafts\, and getting into the nitty-gritty of your original characters. Expect to implement your character?s personality into a well thought-out and harmonious design\, which we will showcase to each other at the end. Ages 18+
LOCATION:Peoria Art Guild at The Shoppes at Peoria Art Guild Suite #225 5201 W War Memorial Dr Suite 225 Peoria\, IL\, IL 61615
UID:e.1773.22570
SEQUENCE:3
DTSTAMP:20260421T203619Z
URL:https://business.peoriachamber.org/events/details/artistic-storytelling-character-design-22570
END:VEVENT

END:VCALENDAR
