BEGIN:VCALENDAR
VERSION:2.0
PRODID:-//ChamberMaster//Event Calendar 2.0//EN
METHOD:PUBLISH
X-PUBLISHED-TTL:P3D
REFRESH-INTERVAL:P3D
CALSCALE:GREGORIAN
BEGIN:VEVENT
DTSTART:20250721T230000Z
DTEND:20250722T010000Z
X-MICROSOFT-CDO-ALLDAYEVENT:FALSE
SUMMARY:Artistic Storytelling: Comics and Manga
DESCRIPTION:This is a 5 week long course that runs every Monday from July 21 to August 18 at 6:00PM to 8:00PM. Have you been inspired by comics? Whether it?s a Garfield comic strip or the world of Marvel\, comics are one of the most expressive forms of storytelling. In this class we?ll begin building up your world\, which could be fantasy\, sci-fi\, reality\, anything you choose! We?ll continue with fundamentals of comic creation such as composition\, inking\, character design\, etc. Our end goal is to create your character reference\, as well as one full page of your comic. \nMaterials provided by student: Sketchbook and pencil\nMaterials provided by Peoria Art Guild: Fine liners\, paper\nAges 18+
X-ALT-DESC;FMTTYPE=text/html:This is a 5 week long course that runs every Monday from July 21 to August 18 at 6:00PM to 8:00PM. Have you been inspired by comics? Whether it?s a Garfield comic strip or the world of Marvel\, comics are one of the most expressive forms of storytelling. In this class we?ll begin building up your world\, which could be fantasy\, sci-fi\, reality\, anything you choose! We?ll continue with fundamentals of comic creation such as composition\, inking\, character design\, etc. Our end goal is to create your character reference\, as well as one full page of your comic. \nMaterials provided by student: Sketchbook and pencil\nMaterials provided by Peoria Art Guild: Fine liners\, paper\nAges 18+
LOCATION:Peoria Art Guild at The Shoppes at the Grand Prairie 5201 West War Memorial Drive\, Peoria\, IL 61615\, USA
UID:e.1773.22575
SEQUENCE:3
DTSTAMP:20260421T192321Z
URL:https://business.peoriachamber.org/events/details/artistic-storytelling-comics-and-manga-22575
END:VEVENT

END:VCALENDAR
