BEGIN:VCALENDAR
VERSION:2.0
PRODID:-//ChamberMaster//Event Calendar 2.0//EN
METHOD:PUBLISH
X-PUBLISHED-TTL:P3D
REFRESH-INTERVAL:P3D
CALSCALE:GREGORIAN
BEGIN:VEVENT
DTSTART:20201115T003000Z
DTEND:20201115T043000Z
X-MICROSOFT-CDO-ALLDAYEVENT:FALSE
SUMMARY:At Your Service
DESCRIPTION:This is a fundraiser for Paws Giving Independence\, an all volunteer organization that trains service dogs for children and adults with disabilities and places the dogs free of charge to recipients. Funds will be used for veterinary care for the dogs in training. Heavy appetizers\, drinks\, music\, silent auction\, and more. Meet the heroes of PGI.
X-ALT-DESC;FMTTYPE=text/html:This is a fundraiser for Paws Giving Independence\, an all volunteer organization that trains service dogs for children and adults with disabilities and places the dogs free of charge to recipients. Funds will be used for veterinary care for the dogs in training. Heavy appetizers\, drinks\, music\, silent auction\, and more. Meet the heroes of PGI.
LOCATION:The Waterhouse 316 SW Washington St. Peoria\, IL 61602
UID:e.1773.18948
SEQUENCE:3
DTSTAMP:20260425T112505Z
URL:https://business.peoriachamber.org/events/details/at-your-service-18948
END:VEVENT

END:VCALENDAR
