BEGIN:VCALENDAR
VERSION:2.0
PRODID:-//ChamberMaster//Event Calendar 2.0//EN
METHOD:PUBLISH
X-PUBLISHED-TTL:P3D
REFRESH-INTERVAL:P3D
CALSCALE:GREGORIAN
BEGIN:VEVENT
DTSTART:20250726T010000Z
DTEND:20250726T040000Z
X-MICROSOFT-CDO-ALLDAYEVENT:FALSE
SUMMARY:Brushville- Friday night Live at the Vineyard!
DESCRIPTION:Date: July 25\, 2025 Time: 8:00 pm - 11:00 pm Location: Mackinaw Valley Vineyard Brushville isn't just a band\, it's an experience! Known for their LIVE shows. Brushville shows are always a favorite because of their high energy performances. Brushville blends four extremely talented musicians\, with incredible harmonies\, an explosive stage show and a fresh\, dynamic sound produced by an array of instruments to create an unforgettable experience for the audience. Brushville has been expanding their assault throughout the nation and we are glad to have them at the vineyard again this summer. On the web at brushville.com. $10 per person band cover\, 12 & under free. Bring a lawn chair to enjoy lawn seating or call to reserve seating for an additional $5pp. You may bring your own foods just no beverages of any kind. Wine tasting and wine\, beer\, sodas\, pizzas\, cheese & crackers and chocolates for sale. THERE ARE NO ADVANCE TICKET SALES\, YOU PAY WHEN ENTERING THAT NIGHT
X-ALT-DESC;FMTTYPE=text/html:Date: July 25\, 2025 Time: 8:00 pm - 11:00 pm Location: Mackinaw Valley Vineyard Brushville isn&rsquo\;t just a band\, it&rsquo\;s an experience! Known for their LIVE shows. Brushville shows are always a favorite because of their high energy performances. Brushville blends four extremely talented musicians\, with incredible harmonies\, an explosive stage show and a fresh\, dynamic sound produced by an array of instruments to create an unforgettable experience for the audience. Brushville has been expanding their assault throughout the nation and we are glad to have them at the vineyard again this summer. On the web at brushville.com. $10 per person band cover\, 12 &amp\; under free. Bring a lawn chair to enjoy lawn seating or call to reserve seating for an additional $5pp. You may bring your own foods just no beverages of any kind. Wine tasting and wine\, beer\, sodas\, pizzas\, cheese &amp\; crackers and chocolates for sale. THERE ARE NO ADVANCE TICKET SALES\, YOU PAY WHEN ENTERING THAT NIGHT
LOCATION:Mackinaw Valley Vineyard 33633 State Route 9 Mackinaw IL 61755
UID:e.1773.22581
SEQUENCE:3
DTSTAMP:20260421T192454Z
URL:https://business.peoriachamber.org/events/details/brushville-friday-night-live-at-the-vineyard-22581
END:VEVENT

END:VCALENDAR
