BEGIN:VCALENDAR
VERSION:2.0
PRODID:-//ChamberMaster//Event Calendar 2.0//EN
METHOD:PUBLISH
X-PUBLISHED-TTL:P3D
REFRESH-INTERVAL:P3D
CALSCALE:GREGORIAN
BEGIN:VEVENT
DTSTART:20201112T223000Z
DTEND:20201113T003000Z
X-MICROSOFT-CDO-ALLDAYEVENT:FALSE
SUMMARY:Business After Hours hosted by Illinois Central College
DESCRIPTION:November Business After Hours hosted by Illinois Central College.
X-ALT-DESC;FMTTYPE=text/html:November Business After Hours hosted by Illinois Central College.
LOCATION:Illinois Central College
UID:e.1773.18871
SEQUENCE:3
DTSTAMP:20260425T112818Z
URL:https://business.peoriachamber.org/events/details/business-after-hours-hosted-by-illinois-central-college-18871
END:VEVENT

END:VCALENDAR
