BEGIN:VCALENDAR
VERSION:2.0
PRODID:-//ChamberMaster//Event Calendar 2.0//EN
METHOD:PUBLISH
X-PUBLISHED-TTL:P3D
REFRESH-INTERVAL:P3D
CALSCALE:GREGORIAN
BEGIN:VEVENT
DTSTART:20220628T123000Z
DTEND:20220628T140000Z
X-MICROSOFT-CDO-ALLDAYEVENT:FALSE
SUMMARY:Business Before Hours - Carpet Weaver's
DESCRIPTION:June Business Before Hours - June 28\nJoin us for June Business Before Hours hosted by Carpet Weaver's (East Peoria) on Tuesday\, June 28th from 7:30 a.m. - 9:00 a.m. Join us for a morning of breakfast treats and networking! Make sure to bring a business card to be entered into the door prize drawing.
X-ALT-DESC;FMTTYPE=text/html:<div style="text-align: center\;"><strong><span style="font-size:18px\;">June Business Before Hours - June 28</span></strong></div>\n<span style="font-size:16px\;"><span segoe="" style="color: rgb(5\, 5\, 5)\; font-family: " ui="">Join us for June Business Before Hours hosted by Carpet Weaver&#39\;s (East Peoria) on Tuesday\, June 28th from 7:30 a.m. - 9:00 a.m. Join us for a morning of breakfast treats and networking! Make sure to bring a business card to be entered into the door prize drawing.</span></span>
LOCATION:Carpet Weaver's 386 W. Washington St.\, East Peoria\, IL
UID:e.1773.19691
SEQUENCE:3
DTSTAMP:20260425T233554Z
URL:https://business.peoriachamber.org/events/details/business-before-hours-carpet-weaver-s-06-28-2022-19691
END:VEVENT

END:VCALENDAR
