BEGIN:VCALENDAR
VERSION:2.0
PRODID:-//ChamberMaster//Event Calendar 2.0//EN
METHOD:PUBLISH
X-PUBLISHED-TTL:P3D
REFRESH-INTERVAL:P3D
CALSCALE:GREGORIAN
BEGIN:VEVENT
DTSTART:20250415T210000Z
DTEND:20250415T230000Z
X-MICROSOFT-CDO-ALLDAYEVENT:FALSE
SUMMARY:Chamber 101: Welcome to the Mix
DESCRIPTION:Whether you're brand new to the Chamber or just need a quick refresher\, Chamber 101: Welcome to the Mix is your invitation to connect\, learn\, and celebrate your membership. \n\n\n\nJoin us for a relaxed and welcoming evening filled with great conversation\, helpful insights\, and the chance to get plugged into all the Chamber has to offer. You'll meet fellow members\, chat with Chamber staff and ambassadors\, and walk away with a clearer picture of how to take full advantage of your benefits. \n\n\nWhat to Expect: \n\n Networking with new and current members \n\n A presentation from our Chamber team on membership perks and programming \n\n Opportunities to engage with staff and ambassadors \n\n Complimentary food and a cash bar \n\n\nLet's get you in the mix RSVP today and start getting more from your membership.
X-ALT-DESC;FMTTYPE=text/html:<div class="OutlineElement Ltr SCXW203301725 BCX0" font-size:="" segoe="" style="-webkit-user-drag: none\; -webkit-tap-highlight-color: transparent\; margin: 0px\; padding: 0px\; user-select: text\; clear: both\; cursor: text\; overflow: visible\; position: relative\; direction: ltr\; color: rgb(0\, 0\, 0)\; font-family: " ui="">\n<p class="Paragraph SCXW203301725 BCX0" paraeid="{7c17f63d-fdec-4779-8c31-adce5edd5e95}{27}" paraid="1357881056" style="-webkit-user-drag: none\; -webkit-tap-highlight-color: transparent\; margin: 16px 0px\; padding: 0px\; user-select: text\; overflow-wrap: break-word\; white-space-collapse: preserve\; vertical-align: baseline\; font-kerning: none\; background-color: transparent\; color: windowtext\;"><span class="TextRun SCXW203301725 BCX0" data-contrast="auto" lang="EN-US" style="-webkit-user-drag: none\; -webkit-tap-highlight-color: transparent\; margin: 0px\; padding: 0px\; user-select: text\; font-variant-ligatures: none !important\; font-size: 12pt\; line-height: 22.0875px\; font-family: Aptos\, Aptos_EmbeddedFont\, Aptos_MSFontService\, sans-serif\;" xml:lang="EN-US"><span class="NormalTextRun SCXW203301725 BCX0" style="-webkit-user-drag: none\; -webkit-tap-highlight-color: transparent\; margin: 0px\; padding: 0px\; user-select: text\;">Whether </span><span class="NormalTextRun ContextualSpellingAndGrammarErrorV2Themed SCXW203301725 BCX0" data:image="" phn2zyb4bwxucz0iahr0cdovl3d3dy53my5vcmcvmjawmc9zdmciihdpzhropsi1iibozwlnahq9ijmipjxnigzpbgw9im5vbmuiigzpbgwtcnvszt0izxzlbm9kzcigc3ryb2tlpsijmzvgiibzdhjva2utbgluzwnhcd0icm91bmqipjxwyxroigq9ik0wic41advnmcayljvonsivpjwvzz48l3n2zz4="))\; border-bottom: 1px solid transparent\;" style="-webkit-user-drag: none\; -webkit-tap-highlight-color: transparent\; margin: 0px\; padding: 0px\; user-select: text\; background-position: 0px 100%\; background-repeat: repeat-x\; background-image: var(--urlContextualSpellingAndGrammarErrorV2\,url(">you&#39\;re</span><span class="NormalTextRun SCXW203301725 BCX0" style="-webkit-user-drag: none\; -webkit-tap-highlight-color: transparent\; margin: 0px\; padding: 0px\; user-select: text\;"> brand new to the Chamber or just need a quick refresher\, </span></span><span class="TextRun MacChromeBold SCXW203301725 BCX0" data-contrast="auto" lang="EN-US" style="-webkit-user-drag: none\; -webkit-tap-highlight-color: transparent\; margin: 0px\; padding: 0px\; user-select: text\; -webkit-font-smoothing: antialiased\; font-variant-ligatures: none !important\; font-size: 12pt\; line-height: 22.0875px\; font-family: Aptos\, Aptos_EmbeddedFont\, Aptos_MSFontService\, sans-serif\; font-weight: bold\;" xml:lang="EN-US">Chamber 101: Welcome to the Mix</span><span class="TextRun SCXW203301725 BCX0" data-contrast="auto" lang="EN-US" style="-webkit-user-drag: none\; -webkit-tap-highlight-color: transparent\; margin: 0px\; padding: 0px\; user-select: text\; font-variant-ligatures: none !important\; font-size: 12pt\; line-height: 22.0875px\; font-family: Aptos\, Aptos_EmbeddedFont\, Aptos_MSFontService\, sans-serif\;" xml:lang="EN-US"> is your invitation to connect\, learn\, and celebrate your membership.</span><span class="EOP SCXW203301725 BCX0" data-ccp-props="{" style="-webkit-user-drag: none\; -webkit-tap-highlight-color: transparent\; margin: 0px\; padding: 0px\; user-select: text\; font-size: 12pt\; line-height: 22.0875px\; font-family: Aptos\, Aptos_EmbeddedFont\, Aptos_MSFontService\, sans-serif\;">&nbsp\;</span></p>\n</div>\n\n<div class="OutlineElement Ltr SCXW203301725 BCX0" font-size:="" segoe="" style="-webkit-user-drag: none\; -webkit-tap-highlight-color: transparent\; margin: 0px\; padding: 0px\; user-select: text\; clear: both\; cursor: text\; overflow: visible\; position: relative\; direction: ltr\; color: rgb(0\, 0\, 0)\; font-family: " ui="">\n<p class="Paragraph SCXW203301725 BCX0" paraeid="{7c17f63d-fdec-4779-8c31-adce5edd5e95}{32}" paraid="455692959" style="-webkit-user-drag: none\; -webkit-tap-highlight-color: transparent\; margin: 16px 0px\; padding: 0px\; user-select: text\; overflow-wrap: break-word\; white-space-collapse: preserve\; vertical-align: baseline\; font-kerning: none\; background-color: transparent\; color: windowtext\;"><span class="TextRun SCXW203301725 BCX0" data-contrast="auto" lang="EN-US" style="-webkit-user-drag: none\; -webkit-tap-highlight-color: transparent\; margin: 0px\; padding: 0px\; user-select: text\; font-variant-ligatures: none !important\; font-size: 12pt\; line-height: 22.0875px\; font-family: Aptos\, Aptos_EmbeddedFont\, Aptos_MSFontService\, sans-serif\;" xml:lang="EN-US"><span class="NormalTextRun SCXW203301725 BCX0" style="-webkit-user-drag: none\; -webkit-tap-highlight-color: transparent\; margin: 0px\; padding: 0px\; user-select: text\;">Join us for a relaxed and welcoming evening filled with </span><span class="NormalTextRun SCXW203301725 BCX0" style="-webkit-user-drag: none\; -webkit-tap-highlight-color: transparent\; margin: 0px\; padding: 0px\; user-select: text\;">great conversation</span><span class="NormalTextRun SCXW203301725 BCX0" style="-webkit-user-drag: none\; -webkit-tap-highlight-color: transparent\; margin: 0px\; padding: 0px\; user-select: text\;">\, helpful insights\, and the chance to get plugged into all the Chamber has to offer. </span><span class="NormalTextRun SCXW203301725 BCX0" style="-webkit-user-drag: none\; -webkit-tap-highlight-color: transparent\; margin: 0px\; padding: 0px\; user-select: text\;">You&#39\;ll</span><span class="NormalTextRun SCXW203301725 BCX0" style="-webkit-user-drag: none\; -webkit-tap-highlight-color: transparent\; margin: 0px\; padding: 0px\; user-select: text\;"> meet fellow members\, chat with Chamber staff and ambassadors\, and walk away with a clearer picture of how to take full advantage of your benefits.</span></span><span class="EOP SCXW203301725 BCX0" data-ccp-props="{" style="-webkit-user-drag: none\; -webkit-tap-highlight-color: transparent\; margin: 0px\; padding: 0px\; user-select: text\; font-size: 12pt\; line-height: 22.0875px\; font-family: Aptos\, Aptos_EmbeddedFont\, Aptos_MSFontService\, sans-serif\;">&nbsp\;</span></p>\n</div>\n\n<p class="Paragraph SCXW203301725 BCX0" paraeid="{7c17f63d-fdec-4779-8c31-adce5edd5e95}{37}" paraid="1431771341" style="-webkit-user-drag: none\; -webkit-tap-highlight-color: transparent\; margin: 16px 0px\; padding: 0px\; user-select: text\; overflow-wrap: break-word\; white-space-collapse: preserve\; vertical-align: baseline\; font-kerning: none\; background-color: transparent\; color: windowtext\;"><strong><span class="TextRun MacChromeBold SCXW203301725 BCX0" data-contrast="auto" lang="EN-US" style="-webkit-user-drag: none\; -webkit-tap-highlight-color: transparent\; margin: 0px\; padding: 0px\; user-select: text\; -webkit-font-smoothing: antialiased\; font-variant-ligatures: none !important\; font-size: 12pt\; line-height: 22.0875px\; font-family: Aptos\, Aptos_EmbeddedFont\, Aptos_MSFontService\, sans-serif\; font-weight: bold\;" xml:lang="EN-US">What to Expect:</span><span class="LineBreakBlob BlobObject DragDrop SCXW203301725 BCX0" style="-webkit-user-drag: none\; -webkit-tap-highlight-color: transparent\; margin: 0px\; padding: 0px\; user-select: text\; font-size: 12pt\; line-height: 22.0875px\; font-family: WordVisiCarriageReturn_MSFontService\, Aptos\, Aptos_EmbeddedFont\, Aptos_MSFontService\, sans-serif\;"><span class="SCXW203301725 BCX0" style="-webkit-user-drag: none\; -webkit-tap-highlight-color: transparent\; margin: 0px\; padding: 0px\; user-select: text\; text-wrap-mode: nowrap !important\;">&nbsp\;</span></span></strong></p>\n\n<p class="Paragraph SCXW203301725 BCX0" style="-webkit-user-drag: none\; -webkit-tap-highlight-color: transparent\; margin: 16px 0px\; padding: 0px\; user-select: text\; overflow-wrap: break-word\; white-space-collapse: preserve\; vertical-align: baseline\; font-kerning: none\; background-color: transparent\; color: windowtext\;"><span class="TextRun SCXW203301725 BCX0" data-contrast="auto" lang="EN-US" style="-webkit-user-drag: none\; -webkit-tap-highlight-color: transparent\; margin: 0px\; padding: 0px\; user-select: text\; font-variant-ligatures: none !important\; font-size: 12pt\; line-height: 22.0875px\; font-family: Aptos\, Aptos_EmbeddedFont\, Aptos_MSFontService\, sans-serif\;" xml:lang="EN-US">&ndash\;Networking with new and current members</span><span class="LineBreakBlob BlobObject DragDrop SCXW203301725 BCX0" style="-webkit-user-drag: none\; -webkit-tap-highlight-color: transparent\; margin: 0px\; padding: 0px\; user-select: text\; font-size: 12pt\; line-height: 22.0875px\; font-family: WordVisiCarriageReturn_MSFontService\, Aptos\, Aptos_EmbeddedFont\, Aptos_MSFontService\, sans-serif\;"><span class="SCXW203301725 BCX0" style="-webkit-user-drag: none\; -webkit-tap-highlight-color: transparent\; margin: 0px\; padding: 0px\; user-select: text\; text-wrap-mode: nowrap !important\;"> </span></span></p>\n\n<p class="Paragraph SCXW203301725 BCX0" style="-webkit-user-drag: none\; -webkit-tap-highlight-color: transparent\; margin: 16px 0px\; padding: 0px\; user-select: text\; overflow-wrap: break-word\; white-space-collapse: preserve\; vertical-align: baseline\; font-kerning: none\; background-color: transparent\; color: windowtext\;"><span class="TextRun SCXW203301725 BCX0" data-contrast="auto" lang="EN-US" style="-webkit-user-drag: none\; -webkit-tap-highlight-color: transparent\; margin: 0px\; padding: 0px\; user-select: text\; font-variant-ligatures: none !important\; font-size: 12pt\; line-height: 22.0875px\; font-family: Aptos\, Aptos_EmbeddedFont\, Aptos_MSFontService\, sans-serif\;" xml:lang="EN-US"><span class="NormalTextRun SCXW203301725 BCX0" style="-webkit-user-drag: none\; -webkit-tap-highlight-color: transparent\; margin: 0px\; padding: 0px\; user-select: text\;">&ndash\;A presentation from our Chamber team on membership </span><span class="NormalTextRun SCXW203301725 BCX0" style="-webkit-user-drag: none\; -webkit-tap-highlight-color: transparent\; margin: 0px\; padding: 0px\; user-select: text\;">perks</span><span class="NormalTextRun SCXW203301725 BCX0" style="-webkit-user-drag: none\; -webkit-tap-highlight-color: transparent\; margin: 0px\; padding: 0px\; user-select: text\;"> and programming</span></span><span class="LineBreakBlob BlobObject DragDrop SCXW203301725 BCX0" style="-webkit-user-drag: none\; -webkit-tap-highlight-color: transparent\; margin: 0px\; padding: 0px\; user-select: text\; font-size: 12pt\; line-height: 22.0875px\; font-family: WordVisiCarriageReturn_MSFontService\, Aptos\, Aptos_EmbeddedFont\, Aptos_MSFontService\, sans-serif\;"><span class="SCXW203301725 BCX0" style="-webkit-user-drag: none\; -webkit-tap-highlight-color: transparent\; margin: 0px\; padding: 0px\; user-select: text\; text-wrap-mode: nowrap !important\;"> </span></span></p>\n\n<p class="Paragraph SCXW203301725 BCX0" style="-webkit-user-drag: none\; -webkit-tap-highlight-color: transparent\; margin: 16px 0px\; padding: 0px\; user-select: text\; overflow-wrap: break-word\; white-space-collapse: preserve\; vertical-align: baseline\; font-kerning: none\; background-color: transparent\; color: windowtext\;"><span class="TextRun SCXW203301725 BCX0" data-contrast="auto" lang="EN-US" style="-webkit-user-drag: none\; -webkit-tap-highlight-color: transparent\; margin: 0px\; padding: 0px\; user-select: text\; font-variant-ligatures: none !important\; font-size: 12pt\; line-height: 22.0875px\; font-family: Aptos\, Aptos_EmbeddedFont\, Aptos_MSFontService\, sans-serif\;" xml:lang="EN-US">&ndash\;Opportunities to engage with staff and ambassadors</span><span class="LineBreakBlob BlobObject DragDrop SCXW203301725 BCX0" style="-webkit-user-drag: none\; -webkit-tap-highlight-color: transparent\; margin: 0px\; padding: 0px\; user-select: text\; font-size: 12pt\; line-height: 22.0875px\; font-family: WordVisiCarriageReturn_MSFontService\, Aptos\, Aptos_EmbeddedFont\, Aptos_MSFontService\, sans-serif\;"><span class="SCXW203301725 BCX0" style="-webkit-user-drag: none\; -webkit-tap-highlight-color: transparent\; margin: 0px\; padding: 0px\; user-select: text\; text-wrap-mode: nowrap !important\;"> </span></span></p>\n\n<p class="Paragraph SCXW203301725 BCX0" style="-webkit-user-drag: none\; -webkit-tap-highlight-color: transparent\; margin: 16px 0px\; padding: 0px\; user-select: text\; overflow-wrap: break-word\; white-space-collapse: preserve\; vertical-align: baseline\; font-kerning: none\; background-color: transparent\; color: windowtext\;"><span class="TextRun SCXW203301725 BCX0" data-contrast="auto" lang="EN-US" style="-webkit-user-drag: none\; -webkit-tap-highlight-color: transparent\; margin: 0px\; padding: 0px\; user-select: text\; font-variant-ligatures: none !important\; font-size: 12pt\; line-height: 22.0875px\; font-family: Aptos\, Aptos_EmbeddedFont\, Aptos_MSFontService\, sans-serif\;" xml:lang="EN-US">&ndash\;Complimentary food and a cash bar</span><span class="EOP SCXW203301725 BCX0" data-ccp-props="{" style="-webkit-user-drag: none\; -webkit-tap-highlight-color: transparent\; margin: 0px\; padding: 0px\; user-select: text\; font-size: 12pt\; line-height: 22.0875px\; font-family: Aptos\, Aptos_EmbeddedFont\, Aptos_MSFontService\, sans-serif\;">&nbsp\;</span></p>\n\n<div class="OutlineElement Ltr SCXW203301725 BCX0" font-size:="" segoe="" style="-webkit-user-drag: none\; -webkit-tap-highlight-color: transparent\; margin: 0px\; padding: 0px\; user-select: text\; clear: both\; cursor: text\; overflow: visible\; position: relative\; direction: ltr\; color: rgb(0\, 0\, 0)\; font-family: " ui="">\n<p class="Paragraph SCXW203301725 BCX0" paraeid="{7c17f63d-fdec-4779-8c31-adce5edd5e95}{42}" paraid="658910900" style="-webkit-user-drag: none\; -webkit-tap-highlight-color: transparent\; margin: 16px 0px\; padding: 0px\; user-select: text\; overflow-wrap: break-word\; white-space-collapse: preserve\; vertical-align: baseline\; font-kerning: none\; background-color: transparent\; color: windowtext\;"><span class="TextRun SCXW203301725 BCX0" data-contrast="auto" lang="EN-US" style="-webkit-user-drag: none\; -webkit-tap-highlight-color: transparent\; margin: 0px\; padding: 0px\; user-select: text\; font-variant-ligatures: none !important\; font-size: 12pt\; line-height: 22.0875px\; font-family: Aptos\, Aptos_EmbeddedFont\, Aptos_MSFontService\, sans-serif\;" xml:lang="EN-US"><span class="NormalTextRun SCXW203301725 BCX0" style="-webkit-user-drag: none\; -webkit-tap-highlight-color: transparent\; margin: 0px\; padding: 0px\; user-select: text\;">Let&rsquo\;s</span><span class="NormalTextRun SCXW203301725 BCX0" style="-webkit-user-drag: none\; -webkit-tap-highlight-color: transparent\; margin: 0px\; padding: 0px\; user-select: text\;"> get you in the mix&mdash\;RSVP today and start getting more from your membership.</span></span><span class="EOP SCXW203301725 BCX0" data-ccp-props="{" style="-webkit-user-drag: none\; -webkit-tap-highlight-color: transparent\; margin: 0px\; padding: 0px\; user-select: text\; font-size: 12pt\; line-height: 22.0875px\; font-family: Aptos\, Aptos_EmbeddedFont\, Aptos_MSFontService\, sans-serif\;">&nbsp\;</span></p>\n</div>\n
LOCATION:Clink Bar and Events 4450 N Prospect Rd Ste 12 Peoria Heights IL 61616
UID:e.1773.22472
SEQUENCE:3
DTSTAMP:20260422T001300Z
URL:https://business.peoriachamber.org/events/details/chamber-101-welcome-to-the-mix-22472
END:VEVENT

END:VCALENDAR
