BEGIN:VCALENDAR
VERSION:2.0
PRODID:-//ChamberMaster//Event Calendar 2.0//EN
METHOD:PUBLISH
X-PUBLISHED-TTL:P3D
REFRESH-INTERVAL:P3D
CALSCALE:GREGORIAN
BEGIN:VEVENT
DTSTART:20260318T213000Z
DTEND:20260318T230000Z
X-MICROSOFT-CDO-ALLDAYEVENT:FALSE
SUMMARY:CLS Non-Profit Social
DESCRIPTION:Join the Community Leadership School Class of 2026 presented by Commerce Bank and Farnsworth Group for the second social of the program\, a nonprofit showcase designed to connect Chamber members with local organizations making an impact in our community. Stop by to meet nonprofit leaders\, learn more about their missions\, and build new relationships\, plus connect with CLS class members and hear about their experience in the program.
X-ALT-DESC;FMTTYPE=text/html:<span style="font-family:arial\;"><span style="font-size:16px\;"><span style="color:black\;">Join the Community Leadership School Class of 2026 presented by Commerce Bank and Farnsworth Group for the second social of the program\, a nonprofit showcase designed to connect Chamber members with local organizations making an impact in our community. Stop by to meet nonprofit leaders\, learn more about their missions\, and build new relationships\, plus connect with CLS class members and hear about their experience in the program.</span></span></span>
LOCATION:ICC Student Center 5407 N. University St. Peoria\, IL
UID:e.1773.22741
SEQUENCE:3
DTSTAMP:20260422T032615Z
URL:https://business.peoriachamber.org/events/details/cls-non-profit-social-22741
END:VEVENT

END:VCALENDAR
