BEGIN:VCALENDAR
VERSION:2.0
PRODID:-//ChamberMaster//Event Calendar 2.0//EN
METHOD:PUBLISH
X-PUBLISHED-TTL:P3D
REFRESH-INTERVAL:P3D
CALSCALE:GREGORIAN
BEGIN:VEVENT
DTSTART:20250710T000000Z
DTEND:20250713T210000Z
X-MICROSOFT-CDO-ALLDAYEVENT:FALSE
SUMMARY:Community Children's Theatre Presents "Shrek the Musical"
DESCRIPTION:"Shrek the Musical" directed and choreographed by Gillian Cramer is CCT's upcoming summer production. Show times are July 9-12 at 7 p.m. and July 12 and 13 at 1 p.m. Performances will take place at Peoria Players Theatre. Music is by Jeanine Tesori and book and lyrics are by David Lindsay-Abaire.\n\n"Shrek the Musical" is a fun-filled\, heartwarming stage adaptation of the hit DreamWorks animated film. This hilarious and exciting show follows Shrek\, a grumpy but lovable ogre\, as he embarks on a quest to rescue Princess Fiona?only to discover that true love and friendship come in the most unexpected forms. With a cast of quirky fairytale characters\, catchy songs\, and plenty of laughs\, "Shrek the Musical" is a fantastic show for performers of all ages.\n\nQuestions? Contact us at friendsofcct@gmail.com or message us on our social media accounts.
X-ALT-DESC;FMTTYPE=text/html:"Shrek the Musical" directed and choreographed by Gillian Cramer is CCT's upcoming summer production. Show times are July 9-12 at 7 p.m. and July 12 and 13 at 1 p.m. Performances will take place at Peoria Players Theatre. Music is by Jeanine Tesori and book and lyrics are by David Lindsay-Abaire.\n\n"Shrek the Musical" is a fun-filled\, heartwarming stage adaptation of the hit DreamWorks animated film. This hilarious and exciting show follows Shrek\, a grumpy but lovable ogre\, as he embarks on a quest to rescue Princess Fiona?only to discover that true love and friendship come in the most unexpected forms. With a cast of quirky fairytale characters\, catchy songs\, and plenty of laughs\, "Shrek the Musical" is a fantastic show for performers of all ages.\n\nQuestions? Contact us at friendsofcct@gmail.com or message us on our social media accounts.
LOCATION:Peoria Players Theatre
UID:e.1773.22509
SEQUENCE:3
DTSTAMP:20260421T192652Z
URL:https://business.peoriachamber.org/events/details/community-children-s-theatre-presents-shrek-the-musical-22509
END:VEVENT

END:VCALENDAR
