BEGIN:VCALENDAR
VERSION:2.0
PRODID:-//ChamberMaster//Event Calendar 2.0//EN
METHOD:PUBLISH
X-PUBLISHED-TTL:P3D
REFRESH-INTERVAL:P3D
CALSCALE:GREGORIAN
BEGIN:VEVENT
DTSTART:20250608T000000Z
DTEND:20250608T040000Z
X-MICROSOFT-CDO-ALLDAYEVENT:FALSE
SUMMARY:Concert at the Vineyard-Decade of Decadence
DESCRIPTION:Date: June 7\, 2025\nTime: 7:00 pm - 11:00 pm\nLocation: Mackinaw Valley Vineyard\nWelcome Decade of Decadence for the first Saturday Concert of the 2025 Season!!\n\nThere are no advance ticket sales for this event\, payment is made when entering the day of the event.\n\nD.O.D. pays homage to the MUSIC of the Hair Metal era. Just the perfect lineup of Rockers who GREW UP IN THE 80?s to keep you UP ALL NIGHT\, dancing and singing ?to the biggest and best songs from the 80?s Hair Band Era!!! So\, come on and take a ride down Memory Lane\, where the Down Boys go! Band members are \;Mark ?General? Lee ? Vocals\, Kory ?Thunder? Piles ? Drums\, Vocals\, Rich ?Goose? ? Bass\, Vocals Jon ?Jonny Boy? Cowell\n\nOver the years every member of D.O.D. has performed for thousands of fans all over the Midwest in some of the area?s most popular bands. D.O.D. performs the music they love and most important they do the music justice\, with no compromises! Come out and dial up the fun and with Decade of Decadence.\n\n$5pp band cover\, under 12 free. Bring a lawn chair to enjoy lawn seating or call to reserve seating for an additional fee of $5pp. You may bring your own foods just no beverages of any kind. Wine tasting and wine\, beer\, sodas\, pizzas\, cheese & crackers\, and chocolates for sale.
X-ALT-DESC;FMTTYPE=text/html:Date: June 7\, 2025\nTime: 7:00 pm - 11:00 pm\nLocation: Mackinaw Valley Vineyard\nWelcome Decade of Decadence for the first Saturday Concert of the 2025 Season!!\n\nThere are no advance ticket sales for this event\, payment is made when entering the day of the event.\n\nD.O.D. pays homage to the MUSIC of the Hair Metal era. Just the perfect lineup of Rockers who GREW UP IN THE 80?s to keep you UP ALL NIGHT\, dancing and singing ?to the biggest and best songs from the 80?s Hair Band Era!!! So\, come on and take a ride down Memory Lane\, where the Down Boys go! Band members are \;Mark ?General? Lee ? Vocals\, Kory ?Thunder? Piles ? Drums\, Vocals\, Rich ?Goose? ? Bass\, Vocals Jon ?Jonny Boy? Cowell\n\nOver the years every member of D.O.D. has performed for thousands of fans all over the Midwest in some of the area?s most popular bands. D.O.D. performs the music they love and most important they do the music justice\, with no compromises! Come out and dial up the fun and with Decade of Decadence.\n\n$5pp band cover\, under 12 free. Bring a lawn chair to enjoy lawn seating or call to reserve seating for an additional fee of $5pp. You may bring your own foods just no beverages of any kind. Wine tasting and wine\, beer\, sodas\, pizzas\, cheese &amp\; crackers\, and chocolates for sale.\n\n 
LOCATION:Mackinaw Valley Vineyard 33633 State Route 9 Mackinaw IL 61755
UID:e.1773.22505
SEQUENCE:3
DTSTAMP:20260421T203926Z
URL:https://business.peoriachamber.org/events/details/concert-at-the-vineyard-decade-of-decadence-06-07-2025-22505
END:VEVENT

END:VCALENDAR
