BEGIN:VCALENDAR
VERSION:2.0
PRODID:-//ChamberMaster//Event Calendar 2.0//EN
METHOD:PUBLISH
X-PUBLISHED-TTL:P3D
REFRESH-INTERVAL:P3D
CALSCALE:GREGORIAN
BEGIN:VEVENT
DTSTART:20250727T000000Z
DTEND:20250727T040000Z
X-MICROSOFT-CDO-ALLDAYEVENT:FALSE
SUMMARY:Concert at the Vineyard-Decade of Decadence
DESCRIPTION:Date: July 26\, 2025 Time: 7:00 pm - 11:00 pm Location: Mackinaw Valley Vineyard D.O.D. pays homage to the MUSIC of the Hair Metal era. Just the perfect lineup of Rockers who GREW UP IN THE 80's to keep you UP ALL NIGHT\, dancing and singing  to the biggest and best songs from the 80's Hair Band Era!!! So\, come on and take a ride down Memory Lane\, where the Down Boys go! Band members are \;Mark "General" Lee   Vocals\, Kory "Thunder" Piles   Drums\, Vocals\, Rich "Goose"   Bass\, Vocals Jon "Jonny Boy" Cowell Over the years every member of D.O.D. has performed for thousands of fans all over the Midwest in some of the area's most popular bands. D.O.D. performs the music they love and most important they do the music justice\, with no compromises! Come out and dial up the fun with Decade of Decadence! $5 per person band cover\, 12 & under free. Bring a lawn chair to enjoy lawn seating or call to reserve seating for an additional $5pp\,deck and patio seating is limited. You may bring your own food and snacks\, just NO BEVERAGES of any kind. A beverage is defined as "any liquid" that you drink."Wine tasting and wine\, beer\, sodas\, pizzas\, cheese & crackers and chocolates for sale. CONCERT HELD RAIN OR SHINE!
X-ALT-DESC;FMTTYPE=text/html:Date: July 26\, 2025 Time: 7:00 pm - 11:00 pm Location: Mackinaw Valley Vineyard D.O.D. pays homage to the MUSIC of the Hair Metal era. Just the perfect lineup of Rockers who GREW UP IN THE 80&rsquo\;s to keep you UP ALL NIGHT\, dancing and singing &hellip\;to the biggest and best songs from the 80&rsquo\;s Hair Band Era!!! So\, come on and take a ride down Memory Lane\, where the Down Boys go! Band members are \;Mark &ldquo\;General&rdquo\; Lee &ndash\; Vocals\, Kory &ldquo\;Thunder&rdquo\; Piles &ndash\; Drums\, Vocals\, Rich &ldquo\;Goose&rdquo\; &ndash\; Bass\, Vocals Jon &ldquo\;Jonny Boy&rdquo\; Cowell Over the years every member of D.O.D. has performed for thousands of fans all over the Midwest in some of the area&rsquo\;s most popular bands. D.O.D. performs the music they love and most important they do the music justice\, with no compromises! Come out and dial up the fun with Decade of Decadence! $5 per person band cover\, 12 &amp\; under free. Bring a lawn chair to enjoy lawn seating or call to reserve seating for an additional $5pp\,deck and patio seating is limited. You may bring your own food and snacks\, just NO BEVERAGES of any kind. A beverage is defined as &ldquo\;any liquid&rdquo\; that you drink.&rdquo\;Wine tasting and wine\, beer\, sodas\, pizzas\, cheese &amp\; crackers and chocolates for sale. CONCERT HELD RAIN OR SHINE!
LOCATION:Mackinaw Valley Vineyard 33633 State Route 9 Mackinaw IL 61755
UID:e.1773.22580
SEQUENCE:3
DTSTAMP:20260421T192703Z
URL:https://business.peoriachamber.org/events/details/concert-at-the-vineyard-decade-of-decadence-07-26-2025-22580
END:VEVENT

END:VCALENDAR
