BEGIN:VCALENDAR
VERSION:2.0
PRODID:-//ChamberMaster//Event Calendar 2.0//EN
METHOD:PUBLISH
X-PUBLISHED-TTL:P3D
REFRESH-INTERVAL:P3D
CALSCALE:GREGORIAN
BEGIN:VEVENT
DTSTART:20250615T000000Z
DTEND:20250615T040000Z
X-MICROSOFT-CDO-ALLDAYEVENT:FALSE
SUMMARY:Concert in the Vineyard-Jammsammich\, their final concert at the vineyard
DESCRIPTION:Date: June 14\, 2025\nTime: 7:00 pm - 11:00 pm\nLocation: Mackinaw Valley Vineyard\nJOIN US FOR JAMMSAMMICH?S FINAL CONCERT AT THE VINEYARD TONIGHT. YES\, you heard that right\, and we are sad too. Join us on this special night to celebrate this iconic band and group of dear friends for their final concert at the vineyard.  A night not to be missed.  Time to come and make and share a memory.\n\nThis band is a big part of the history of the vineyard as we have grown over the years into one of the areas favorite local concert venues. The gentlemen in this group are some of the areas finest showmen and musicians and we will miss them and the legacy they have in our hearts will never end. Come out tonight to give them a BIG SEND OFF with us for their last time at the vineyard.\n\nGoing 25+ years strong\, Jammsammich is always committed to the ultimate good time!! The readers of the River City Times voted Jammsammich ? Peoria?s favorite band? many times over. The formula of groove-driven funk and R&B\, retro 80?s tunes\, island jams\, and liberal doses of comedy has proven to be one of the most potent and fun Central Illinois bands.\n\nVisit them at http://jammsammichrocks.com\n\n$5pp band cover\, under 12 free. Bring a lawn chair to enjoy lawn seating or call to reserve deck seating for an additional fee of $5 pp. You may bring your own foods just no beverages of any kind. Wine by the glass or bottle\, beer\, sodas\, cheese & crackers\, assorted snacks and chocolates for sale. All drinks and food must be consumed in outdoor areas.\n\n*There are no advance ticket sales for this event\, payment is made when entering the day of the event.
X-ALT-DESC;FMTTYPE=text/html:Date: June 14\, 2025\nTime: 7:00 pm - 11:00 pm\nLocation: Mackinaw Valley Vineyard\nJOIN US FOR JAMMSAMMICH?S FINAL CONCERT AT THE VINEYARD TONIGHT. YES\, you heard that right\, and we are sad too. Join us on this special night to celebrate this iconic band and group of dear friends for their final concert at the vineyard.  A night not to be missed.  Time to come and make and share a memory.\n\nThis band is a big part of the history of the vineyard as we have grown over the years into one of the areas favorite local concert venues. The gentlemen in this group are some of the areas finest showmen and musicians and we will miss them and the legacy they have in our hearts will never end. Come out tonight to give them a BIG SEND OFF with us for their last time at the vineyard.\n\nGoing 25+ years strong\, Jammsammich is always committed to the ultimate good time!! The readers of the River City Times voted Jammsammich ? Peoria?s favorite band? many times over. The formula of groove-driven funk and R&amp\;B\, retro 80?s tunes\, island jams\, and liberal doses of comedy has proven to be one of the most potent and fun Central Illinois bands.\n\nVisit them at http://jammsammichrocks.com\n\n$5pp band cover\, under 12 free. Bring a lawn chair to enjoy lawn seating or call to reserve deck seating for an additional fee of $5 pp. You may bring your own foods just no beverages of any kind. Wine by the glass or bottle\, beer\, sodas\, cheese &amp\; crackers\, assorted snacks and chocolates for sale. All drinks and food must be consumed in outdoor areas.\n\n*There are no advance ticket sales for this event\, payment is made when entering the day of the event.
LOCATION:
UID:e.1773.22506
SEQUENCE:3
DTSTAMP:20260421T204012Z
URL:https://business.peoriachamber.org/events/details/concert-in-the-vineyard-jammsammich-their-final-concert-at-the-vineyard-22506
END:VEVENT

END:VCALENDAR
