BEGIN:VCALENDAR
VERSION:2.0
PRODID:-//ChamberMaster//Event Calendar 2.0//EN
METHOD:PUBLISH
X-PUBLISHED-TTL:P3D
REFRESH-INTERVAL:P3D
CALSCALE:GREGORIAN
BEGIN:VEVENT
DTSTART:20201029T221500Z
DTEND:20201029T234500Z
X-MICROSOFT-CDO-ALLDAYEVENT:FALSE
SUMMARY:Creative Arts Discovery Club ages 5-9
DESCRIPTION:Creative Arts Discovery Club Ages 5-9 Department: Kids Join us for this great 6 weeks course teaching fine art skills. At the end of each session we will host a special exhibit at First Friday to showcase all the awesome art we create! Cost: $108 Thursday nights from 5:15 pm to 6:45 pm October 29- December 10\, 2020 (No class November 26\, 2020) Ages 5-9 Materials: Provided by the Peoria Art Guild
X-ALT-DESC;FMTTYPE=text/html:Creative Arts Discovery Club Ages 5-9 Department: Kids Join us for this great 6 weeks course teaching fine art skills. At the end of each session we will host a special exhibit at First Friday to showcase all the awesome art we create! Cost: $108 Thursday nights from 5:15 pm to 6:45 pm October 29- December 10\, 2020 (No class November 26\, 2020) Ages 5-9 Materials: Provided by the Peoria Art Guild
LOCATION:Peoria Art Guild 203 Harrison St Peoria\, IL 61602
UID:e.1773.19166
SEQUENCE:3
DTSTAMP:20260426T000201Z
URL:https://business.peoriachamber.org/events/details/creative-arts-discovery-club-ages-5-9-10-29-2020-19166
END:VEVENT

END:VCALENDAR
