BEGIN:VCALENDAR
VERSION:2.0
PRODID:-//ChamberMaster//Event Calendar 2.0//EN
METHOD:PUBLISH
X-PUBLISHED-TTL:P3D
REFRESH-INTERVAL:P3D
CALSCALE:GREGORIAN
BEGIN:VEVENT
DTSTART:20250812T223000Z
DTEND:20250813T013000Z
X-MICROSOFT-CDO-ALLDAYEVENT:FALSE
SUMMARY:CWTC's Pathway Awards Dinner & Fundraiser
DESCRIPTION:?? Star Power?? Join us for CWTC's Pathway Awards Dinner & Fundraiser   an unforgettable evening among the stars! We're marking 65 incredible years of empowering adults with disabilities and we want YOU to be part of the celebration! What began with 13 individuals and 1 staff member has grown into a vibrant community supporting over 450 adults with a team of 117 dedicated professionals. This evening is more than just a dinner it's a tribute to the achievements of our clients\, the commitment of our staff\, and the invaluable support of our community partners. Together\, we are building brighter futures through residential\, vocational\, and employment services. ??? Enjoy a delicious dinner\, exciting silent auction\, and an inspiring awards ceremony. You don't want to miss this heartwarming night of impact\, inspiration\, and celebration. Register today and be part of a mission that's changing lives one star at a time. ??
X-ALT-DESC;FMTTYPE=text/html:?? Star Power?? Join us for CWTC&rsquo\;s Pathway Awards Dinner &amp\; Fundraiser &ndash\; an unforgettable evening among the stars! We&rsquo\;re marking 65 incredible years of empowering adults with disabilities&mdash\;and we want YOU to be part of the celebration! What began with 13 individuals and 1 staff member has grown into a vibrant community supporting over 450 adults with a team of 117 dedicated professionals. This evening is more than just a dinner&mdash\;it&rsquo\;s a tribute to the achievements of our clients\, the commitment of our staff\, and the invaluable support of our community partners. Together\, we are building brighter futures through residential\, vocational\, and employment services. ??? Enjoy a delicious dinner\, exciting silent auction\, and an inspiring awards ceremony. You don&rsquo\;t want to miss this heartwarming night of impact\, inspiration\, and celebration. Register today and be part of a mission that&rsquo\;s changing lives&mdash\;one star at a time. ??
LOCATION:Par-A-Dice Hotel\, East Peoria
UID:e.1773.22586
SEQUENCE:3
DTSTAMP:20260421T181138Z
URL:https://business.peoriachamber.org/events/details/cwtc-s-pathway-awards-dinner-fundraiser-22586
END:VEVENT

END:VCALENDAR
