BEGIN:VCALENDAR
VERSION:2.0
PRODID:-//ChamberMaster//Event Calendar 2.0//EN
METHOD:PUBLISH
X-PUBLISHED-TTL:P3D
REFRESH-INTERVAL:P3D
CALSCALE:GREGORIAN
BEGIN:VEVENT
DTSTART:20250118T210000Z
DTEND:20250119T000000Z
X-MICROSOFT-CDO-ALLDAYEVENT:FALSE
SUMMARY:Encanto in Concert Live to Film
DESCRIPTION:Walt Disney Animation Studios' Academy Award -winning film comes to life in a concert event\, featuring the entire feature-length film with a full orchestra performing the score.
X-ALT-DESC;FMTTYPE=text/html:Walt Disney Animation Studios&rsquo\; Academy Award&reg\;-winning film comes to life in a concert event\, featuring the entire feature-length film with a full orchestra performing the score.
LOCATION:Peoria Civic Center Theater 201 SW Jefferson Ave\, Peoria\, IL 61602
UID:e.1773.21941
SEQUENCE:3
DTSTAMP:20260424T005106Z
URL:https://business.peoriachamber.org/events/details/encanto-in-concert-live-to-film-21941
END:VEVENT

END:VCALENDAR
