BEGIN:VCALENDAR
VERSION:2.0
PRODID:-//ChamberMaster//Event Calendar 2.0//EN
METHOD:PUBLISH
X-PUBLISHED-TTL:P3D
REFRESH-INTERVAL:P3D
CALSCALE:GREGORIAN
BEGIN:VEVENT
DTSTART:20250715T143000Z
DTEND:20250715T153000Z
X-MICROSOFT-CDO-ALLDAYEVENT:FALSE
SUMMARY:Free Summer Kids Classes: Painting Age 6-8 July 15\, 2025
DESCRIPTION:Join us for a summer of creativity! Our Summer Free Kids Art Classes offer children the chance to explore different art forms at three convenient locations across the city. Each week focuses on a new artistic medium\, including drawing\, painting\, 3D art\, and collage.\n\nWeek 2 will focus on painting skills.
X-ALT-DESC;FMTTYPE=text/html:Join us for a summer of creativity! Our Summer Free Kids Art Classes offer children the chance to explore different art forms at three convenient locations across the city. Each week focuses on a new artistic medium\, including drawing\, painting\, 3D art\, and collage.\n\nWeek 2 will focus on painting skills. 
LOCATION:Peoria Art Guild Downtown Location 203 Harrison St Peoria\, IL\, IL 61602
UID:e.1773.22566
SEQUENCE:3
DTSTAMP:20260421T192645Z
URL:https://business.peoriachamber.org/events/details/free-summer-kids-classes-painting-age-6-8-july-15-2025-22566
END:VEVENT

END:VCALENDAR
