BEGIN:VCALENDAR
VERSION:2.0
PRODID:-//ChamberMaster//Event Calendar 2.0//EN
METHOD:PUBLISH
X-PUBLISHED-TTL:P3D
REFRESH-INTERVAL:P3D
CALSCALE:GREGORIAN
BEGIN:VEVENT
DTSTART:20250823T140000Z
DTEND:20250823T220000Z
X-MICROSOFT-CDO-ALLDAYEVENT:FALSE
SUMMARY:Gems of the Prairie 2025 Quilt Show
DESCRIPTION:Come view and vote on over 300 quilts made by Gems members\, visit with vendors\, watch demonstrations\, Quilts of Valor presentations\, and so much more!
X-ALT-DESC;FMTTYPE=text/html:Come view and vote on over 300 quilts made by Gems members\, visit with vendors\, watch demonstrations\, Quilts of Valor presentations\, and so much more!
LOCATION:Life together Center 3625 N. Sheridan Rd\, Peoria IL 61604
UID:e.1773.22490
SEQUENCE:3
DTSTAMP:20260421T182054Z
URL:https://business.peoriachamber.org/events/details/gems-of-the-prairie-2025-quilt-show-22490
END:VEVENT

END:VCALENDAR
