BEGIN:VCALENDAR
VERSION:2.0
PRODID:-//ChamberMaster//Event Calendar 2.0//EN
METHOD:PUBLISH
X-PUBLISHED-TTL:P3D
REFRESH-INTERVAL:P3D
CALSCALE:GREGORIAN
BEGIN:VEVENT
DTSTART:20241206T000000Z
DTEND:20241206T023000Z
X-MICROSOFT-CDO-ALLDAYEVENT:FALSE
SUMMARY:Holiday Wreath Making Class
DESCRIPTION:Join J.Blu Design and Haven on the Farm for a fresh evergreen wreath making class! Make your own wreath with hands on instruction from Julie with J.Blu Design. Customize your wreath with a large selection of ribbon and adornments.
X-ALT-DESC;FMTTYPE=text/html:Join J.Blu Design and Haven on the Farm for a fresh evergreen wreath making class! Make your own wreath with hands on instruction from Julie with J.Blu Design. Customize your wreath with a large selection of ribbon and adornments.
LOCATION:Haven on the Farm 6221 US-150\, Edwards\, IL 61528
UID:e.1773.22035
SEQUENCE:3
DTSTAMP:20260424T065151Z
URL:https://business.peoriachamber.org/events/details/holiday-wreath-making-class-22035
END:VEVENT

END:VCALENDAR
