BEGIN:VCALENDAR
VERSION:2.0
PRODID:-//ChamberMaster//Event Calendar 2.0//EN
METHOD:PUBLISH
X-PUBLISHED-TTL:P3D
REFRESH-INTERVAL:P3D
CALSCALE:GREGORIAN
BEGIN:VEVENT
DTSTART:20250731T233000Z
DTEND:20250815T010000Z
X-MICROSOFT-CDO-ALLDAYEVENT:FALSE
SUMMARY:Introduction to Broad Edge Calligraphy with Foundational Hand
DESCRIPTION:Learn a foundational script that's perfect for beginners. This class introduces the basic structure\, form\, and spacing of letters to build a strong calligraphy foundation. All materials are provided and yours to keep\, allowing you to continue your calligraphy practice beyond the class.
X-ALT-DESC;FMTTYPE=text/html:Learn a foundational script that&#39\;s perfect for beginners. This class introduces the basic structure\, form\, and spacing of letters to build a strong calligraphy foundation. All materials are provided and yours to keep\, allowing you to continue your calligraphy practice beyond the class.
LOCATION:
UID:e.1773.22546
SEQUENCE:3
DTSTAMP:20260421T164536Z
URL:https://business.peoriachamber.org/events/details/introduction-to-broad-edge-calligraphy-with-foundational-hand-22546
END:VEVENT

END:VCALENDAR
