BEGIN:VCALENDAR
VERSION:2.0
PRODID:-//ChamberMaster//Event Calendar 2.0//EN
METHOD:PUBLISH
X-PUBLISHED-TTL:P3D
REFRESH-INTERVAL:P3D
CALSCALE:GREGORIAN
BEGIN:VEVENT
DTSTART:20250715T150000Z
DTEND:20250715T170000Z
X-MICROSOFT-CDO-ALLDAYEVENT:FALSE
SUMMARY:Introduction to Sashiko July 15 Morning Class
DESCRIPTION:Sashiko stitching is a Japanese embroidery technique that is easy to learn and beautiful to stitch. In this class you will make a sampler of traditional stitches. Included is a denim fabric and Sashiko thread.\nAges +13
X-ALT-DESC;FMTTYPE=text/html:Sashiko stitching is a Japanese embroidery technique that is easy to learn and beautiful to stitch. In this class you will make a sampler of traditional stitches. Included is a denim fabric and Sashiko thread.\nAges +13
LOCATION:Peoria Art Guild at The Shoppes at Grand Prairie Suite #225
UID:e.1773.22567
SEQUENCE:3
DTSTAMP:20260421T203716Z
URL:https://business.peoriachamber.org/events/details/introduction-to-sashiko-july-15-morning-class-22567
END:VEVENT

END:VCALENDAR
