BEGIN:VCALENDAR
VERSION:2.0
PRODID:-//ChamberMaster//Event Calendar 2.0//EN
METHOD:PUBLISH
X-PUBLISHED-TTL:P3D
REFRESH-INTERVAL:P3D
CALSCALE:GREGORIAN
BEGIN:VEVENT
DTSTART:20200709T213000Z
DTEND:20200709T233000Z
X-MICROSOFT-CDO-ALLDAYEVENT:FALSE
SUMMARY:July Business After Hours at Red Hat Enterprises
DESCRIPTION:July Business After Hours hosted by Red Hat Enterprises.
X-ALT-DESC;FMTTYPE=text/html:July Business After Hours hosted by Red Hat Enterprises.
LOCATION:Red Hat Enterprises
UID:e.1773.18867
SEQUENCE:3
DTSTAMP:20260420T134853Z
URL:https://business.peoriachamber.org/events/details/july-business-after-hours-at-red-hat-enterprises-18867
END:VEVENT

END:VCALENDAR
