BEGIN:VCALENDAR
VERSION:2.0
PRODID:-//ChamberMaster//Event Calendar 2.0//EN
METHOD:PUBLISH
X-PUBLISHED-TTL:P3D
REFRESH-INTERVAL:P3D
CALSCALE:GREGORIAN
BEGIN:VEVENT
DTSTART:20231103T210000Z
DTEND:20231103T223000Z
X-MICROSOFT-CDO-ALLDAYEVENT:FALSE
SUMMARY:Meet the Turner Center Team
DESCRIPTION:Meet the team! The Turner Center for Entrepreneurship at Bradley University team. Join us during our casual open house to be introduced to and meet with the business advisors who make up the Illinois Small Business Development Center (SBDC)\, Illinois SBDC International Trade Center (ITC)\, and APEX Accelerator   we are YOUR BEST NEXT STEP! Light snacks and refreshments will be provided. Topics covered:   Who/What is the Illinois Small Business Development Center?   Who/What is the Illinois SBDC International Trade Center?   Who/What is an APEX Accelerator?   Who do we serve?   How do YOU become a client?   How are we funded? Who should attend?   Aspiring entrepreneurs who have not yet decided on an industry or business concept.   Existing business owners seeking opportunities or facing challenges with their small business.   Existing business owners interested in exploring government contracting or exporting their products.   Anyone looking to develop their social media strategy.   Entrepreneurs curious about trademarks\, copyrights\, and patents. Don't miss this opportunity to:   Learn about the support network for entrepreneurs in the Heart of Illinois.   Meet other entrepreneurs   Engage with the team of expert business advisors driving the Turner Center for Entrepreneurship. Co-Sponsor: PeoriaNEXT Innovation Center
X-ALT-DESC;FMTTYPE=text/html:Meet the team! The Turner Center for Entrepreneurship at Bradley University team. Join us during our casual open house to be introduced to and meet with the business advisors who make up the Illinois Small Business Development Center (SBDC)\, Illinois SBDC International Trade Center (ITC)\, and APEX Accelerator &ndash\; we are YOUR BEST NEXT STEP! Light snacks and refreshments will be provided. Topics covered: &bull\; Who/What is the Illinois Small Business Development Center? &bull\; Who/What is the Illinois SBDC International Trade Center? &bull\; Who/What is an APEX Accelerator? &bull\; Who do we serve? &bull\; How do YOU become a client? &bull\; How are we funded? Who should attend? &bull\; Aspiring entrepreneurs who have not yet decided on an industry or business concept. &bull\; Existing business owners seeking opportunities or facing challenges with their small business. &bull\; Existing business owners interested in exploring government contracting or exporting their products. &bull\; Anyone looking to develop their social media strategy. &bull\; Entrepreneurs curious about trademarks\, copyrights\, and patents. Don&rsquo\;t miss this opportunity to: &bull\; Learn about the support network for entrepreneurs in the Heart of Illinois. &bull\; Meet other entrepreneurs &bull\; Engage with the team of expert business advisors driving the Turner Center for Entrepreneurship. Co-Sponsor: PeoriaNEXT Innovation Center
LOCATION:Peoria NEXT Innovation Center 801 W Main Street Peoria IL 61606
UID:e.1773.21701
SEQUENCE:3
DTSTAMP:20260424T130813Z
URL:https://business.peoriachamber.org/events/details/meet-the-turner-center-team-21701
END:VEVENT

END:VCALENDAR
