BEGIN:VCALENDAR
VERSION:2.0
PRODID:-//ChamberMaster//Event Calendar 2.0//EN
METHOD:PUBLISH
X-PUBLISHED-TTL:P3D
REFRESH-INTERVAL:P3D
CALSCALE:GREGORIAN
BEGIN:VEVENT
DTSTART:20201110T173000Z
DTEND:20201110T183000Z
X-MICROSOFT-CDO-ALLDAYEVENT:FALSE
SUMMARY:Member Seminar: Diversity in the Workplace
DESCRIPTION:Join Sunny Olsen with Best Buddies International for an informal discussion about cost-effective staffing solutions that involve an untapped employee market of individuals. Learn how to diversify and create more inclusion at your workplace hiring individuals with intellectual and developmental disabilities (IDD). \n\nYou will learn about:\n\n\n	Cost-effective solutions to address business needs\n	Reduced recruitment and training costs\n	Lower absenteeism and sick leave\n	Increased employee morale\n	Foster a culture of corporate responsibility\n	Federal tax incentives available
X-ALT-DESC;FMTTYPE=text/html:<p class="_5RYuEA direction-ltr align-start para-style-body" style="line-height: 1.51\; letter-spacing: 0.03em\; font-family: &quot\;YACgEQNAr7w 0&quot\;\, _fb_\, auto\; font-size: 11.8788px\; color: rgb(0\, 0\, 0)\;"><span style="font-size:12px\;"><span style="font-family:arial\;"><span class="SS_gjA">Join&nbsp\;Sunny Olsen with Best Buddies International&nbsp\;for an informal discussion about cost-effective staffing solutions that involve an untapped employee market of individuals. Learn how to diversify and create more inclusion at your workplace hiring individuals with intellectual and developmental disabilities (IDD).</span><span class="SS_gjA white-space-prewrap"> </span></span></span></p>\n\n<p class="_5RYuEA direction-ltr align-start para-style-body" style="line-height: 1.51\; letter-spacing: 0.03em\; font-family: &quot\;YACgEQNAr7w 0&quot\;\, _fb_\, auto\; font-size: 11.8788px\; color: rgb(0\, 0\, 0)\;"><span style="font-size:12px\;"><span style="font-family:arial\;"><span class="SS_gjA">You will learn about:</span></span></span></p>\n\n<ul>\n	<li><span style="font-size:12px\;"><span style="font-family:arial\;"><span class="SS_gjA" style="color: rgb(0\, 0\, 0)\;">Cost-effective solutions to address business needs</span></span></span></li>\n	<li><span style="font-size:12px\;"><span style="font-family:arial\;"><span class="SS_gjA" style="color: rgb(0\, 0\, 0)\;">Reduced recruitment and training costs</span></span></span></li>\n	<li><span style="font-size:12px\;"><span style="font-family:arial\;"><span class="SS_gjA" style="color: rgb(0\, 0\, 0)\;">Lower absenteeism and sick leave</span></span></span></li>\n	<li><span style="font-size:12px\;"><span style="font-family:arial\;"><span class="SS_gjA" style="color: rgb(0\, 0\, 0)\;">Increased employee morale</span></span></span></li>\n	<li><span style="font-size:12px\;"><span style="font-family:arial\;"><span class="SS_gjA" style="color: rgb(0\, 0\, 0)\;">Foster a culture of corporate responsibility</span></span></span></li>\n	<li><span style="font-size:12px\;"><span style="font-family:arial\;"><span class="SS_gjA" style="color: rgb(0\, 0\, 0)\;">Federal tax incentives available</span></span></span></li>\n</ul>\n
LOCATION:Zoom
UID:e.1773.19192
SEQUENCE:3
DTSTAMP:20260425T112615Z
URL:https://business.peoriachamber.org/events/details/member-seminar-diversity-in-the-workplace-19192
END:VEVENT

END:VCALENDAR
