BEGIN:VCALENDAR
VERSION:2.0
PRODID:-//ChamberMaster//Event Calendar 2.0//EN
METHOD:PUBLISH
X-PUBLISHED-TTL:P3D
REFRESH-INTERVAL:P3D
CALSCALE:GREGORIAN
BEGIN:VEVENT
DTSTART:20250411T233000Z
DTEND:20250412T020000Z
X-MICROSOFT-CDO-ALLDAYEVENT:FALSE
SUMMARY:Murder Mystery-SCARY POPPINS
DESCRIPTION:Date: April 11\, 2025 Time: 6:30 pm - 9:00 pm Location: Mackinaw Valley Vineyard A spoonful of arsenic helps the cyanide go down. Mary can be cheery and scary but who knows who dunnit?!? Call 309-359-9463 for tickets. Arrival suggested between 5:30-6:30 pm for seating\, wine tasting and "mingling" with the cast\, this is your chance to let them know if you want to participate in the show. The drama will start at approximately 6:30 pm. Wine can be sampled at the tasting bar and wine can be purchased by the bottle or glass\, beer and sodas also available. Dinner is served buffet style after the first act and dessert is served tableside. The performance will be held in the tasting room in the main building\, center entrance from main parking lot. Tickets on sale now\, to get tickets call the tasting room at 309-359-9463 during business hours. Payment by credit card is due when making the reservations. Admission of $55+tax per person is for the dinner\, dessert and the show\, reservations are required. Email mackinawwinery03@gmail.com for questions. Fun Costumes are welcome Dinner and Desserts served by The Catering Company **Vegetarian and Gluten free options available by advance request** Honey Glazed Country Ham Vegetable Lasagna w/Marinara Sauce Honey Glazed Baby Carrots Three Cheese Au Gratin Potatoes Tossed Salad w/Dressings Sliced French Bread w/Butter Frosted Chocolate Fudge Cake Iced Tea and Water Coffee Available w/Dessert
X-ALT-DESC;FMTTYPE=text/html:Date: April 11\, 2025 Time: 6:30 pm - 9:00 pm Location: Mackinaw Valley Vineyard A spoonful of arsenic helps the cyanide go down. Mary can be cheery and scary but who knows&hellip\;who dunnit?!? Call 309-359-9463 for tickets. Arrival suggested between 5:30-6:30 pm for seating\, wine tasting and &ldquo\;mingling&rdquo\; with the cast\, this is your chance to let them know if you want to participate in the show. The drama will start at approximately 6:30 pm. Wine can be sampled at the tasting bar and wine can be purchased by the bottle or glass\, beer and sodas also available. Dinner is served buffet style after the first act and dessert is served tableside. The performance will be held in the tasting room in the main building\, center entrance from main parking lot. Tickets on sale now\, to get tickets call the tasting room at 309-359-9463 during business hours. Payment by credit card is due when making the reservations. Admission of $55+tax per person is for the dinner\, dessert and the show\, reservations are required. Email mackinawwinery03@gmail.com for questions. Fun Costumes are welcome Dinner and Desserts served by The Catering Company **Vegetarian and Gluten free options available by advance request** Honey Glazed Country Ham Vegetable Lasagna w/Marinara Sauce Honey Glazed Baby Carrots Three Cheese Au Gratin Potatoes Tossed Salad w/Dressings Sliced French Bread w/Butter Frosted Chocolate Fudge Cake Iced Tea and Water Coffee Available w/Dessert
LOCATION:Mackinaw Valley Vineyard 33633 State Route 9 Mackinaw IL 61755
UID:e.1773.22465
SEQUENCE:3
DTSTAMP:20260422T001251Z
URL:https://business.peoriachamber.org/events/details/murder-mystery-scary-poppins-22465
END:VEVENT

END:VCALENDAR
