BEGIN:VCALENDAR
VERSION:2.0
PRODID:-//ChamberMaster//Event Calendar 2.0//EN
METHOD:PUBLISH
X-PUBLISHED-TTL:P3D
REFRESH-INTERVAL:P3D
CALSCALE:GREGORIAN
BEGIN:VEVENT
DTSTART:20191105T143000Z
DTEND:20191105T163000Z
X-MICROSOFT-CDO-ALLDAYEVENT:FALSE
SUMMARY:November Member Seminar: Let Us be Blunt: Establishing a Cannabis Business Is Not for the Fried
DESCRIPTION:Attorneys of Davis & Campbell will be presenting for our November Member Seminar.  During this presentation we will: \n\n1. Extract important information on applying for a cannabis business license\n\n2. Concentrate on the illegality of cannabis under federal law and potential implications for cannabis businesses\n\n3. Hash out the consequences for recreational cannabis businesses due to prior establishment of medical cannabis businesses\n\n4. Field questions concerning any haziness surrounding the legislation on the establishment of cannabis businesses\n\n\n\nThis event is FREE for Chamber Members but you must REGISTER to attend.
X-ALT-DESC;FMTTYPE=text/html:Attorneys of Davis &amp\; Campbell will be presenting for our November Member Seminar.&nbsp\; During this presentation we will:&nbsp\;<br />\n1. Extract important information on applying for a cannabis business license<br />\n2. Concentrate on the illegality of cannabis under federal law and potential implications for cannabis businesses<br />\n3. Hash out the consequences for recreational cannabis businesses due to prior establishment of medical cannabis businesses<br />\n4. Field questions concerning any haziness surrounding the legislation on the establishment of cannabis businesses<br />\n<br />\nThis event is <strong>FREE&nbsp\;</strong>for Chamber Members but you must&nbsp\;<b>REGISTER&nbsp\;</b>to attend.&nbsp\;&nbsp\;
LOCATION:Cullinan Properties 420 N. Main Street East Peoria\, IL 61611
UID:e.1773.18739
SEQUENCE:3
DTSTAMP:20260419T200948Z
URL:https://business.peoriachamber.org/events/details/november-member-seminar-let-us-be-blunt-establishing-a-cannabis-business-is-not-for-the-fried-18739
END:VEVENT

END:VCALENDAR
