BEGIN:VCALENDAR
VERSION:2.0
PRODID:-//ChamberMaster//Event Calendar 2.0//EN
METHOD:PUBLISH
X-PUBLISHED-TTL:P3D
REFRESH-INTERVAL:P3D
CALSCALE:GREGORIAN
BEGIN:VEVENT
DTSTART:20251008T150000Z
DTEND:20251008T180000Z
X-MICROSOFT-CDO-ALLDAYEVENT:FALSE
SUMMARY:Palette Knife Painting Oct 8\, 2025
DESCRIPTION:Come explore painting with a palette knife! We will start with simple landscapes and you will learn how to block in shapes and mix paint for that beautiful sky with maybe a few clouds. From distant mountains to foreground color will be the key. You can be as abstract (loose) as you feel comfortable or detailed (tight) if that is your style. No previous experience necessary and as easy as spreading butter. Ages 16+
X-ALT-DESC;FMTTYPE=text/html:Come explore painting with a palette knife! We will start with simple landscapes and you will learn how to block in shapes and mix paint for that beautiful sky with maybe a few clouds. From distant mountains to foreground color will be the key. You can be as abstract (loose) as you feel comfortable or detailed (tight) if that is your style. No previous experience necessary and as easy as spreading butter. Ages 16+
LOCATION:Peoria Art Guild at The Shoppes at Grand Prairie\, Suite #225 5201 West War Memorial Drive Peoria\, IL\, 61615 United States
UID:e.1773.22598
SEQUENCE:3
DTSTAMP:20260421T220946Z
URL:https://business.peoriachamber.org/events/details/palette-knife-painting-oct-8-2025-22598
END:VEVENT

END:VCALENDAR
