BEGIN:VCALENDAR
VERSION:2.0
PRODID:-//ChamberMaster//Event Calendar 2.0//EN
METHOD:PUBLISH
X-PUBLISHED-TTL:P3D
REFRESH-INTERVAL:P3D
CALSCALE:GREGORIAN
BEGIN:VEVENT
DTSTART:20250927T150000Z
DTEND:20250928T210000Z
X-MICROSOFT-CDO-ALLDAYEVENT:FALSE
SUMMARY:Peoria Art Guild Fine Art Fair
DESCRIPTION:It's our 63rd anniversary for bringing original art to central Illinois and we want you to be a part of the celebration! As one of the oldest art organizations in the country\, the Peoria Art Guild Fine Art Fair is nationally recognized. We offer affordable hotel rates\, convenient parking\, and 500+ volunteers. This is the Peoria Art Guild's major fundraising event of the year. All proceeds benefit the Art Guild's community outreach and programming. Thank You to all of our Sponsors for all they do to support this event!
X-ALT-DESC;FMTTYPE=text/html:It&#39\;s our 63rd anniversary for bringing original art to central Illinois and we want you to be a part of the celebration! As one of the oldest art organizations in the country\, the Peoria Art Guild Fine Art Fair is nationally recognized. We offer affordable hotel rates\, convenient parking\, and 500+ volunteers. This is the Peoria Art Guild&#39\;s major fundraising event of the year. All proceeds benefit the Art Guild&#39\;s community outreach and programming. Thank You to all of our Sponsors for all they do to support this event!
LOCATION:Riverfront Festival Park 200 NE Water Street\, Peoria\, IL
UID:e.1773.22284
SEQUENCE:3
DTSTAMP:20260421T203828Z
URL:https://business.peoriachamber.org/events/details/peoria-art-guild-fine-art-fair-09-27-2025-22284
END:VEVENT

END:VCALENDAR
