BEGIN:VCALENDAR
VERSION:2.0
PRODID:-//ChamberMaster//Event Calendar 2.0//EN
METHOD:PUBLISH
X-PUBLISHED-TTL:P3D
REFRESH-INTERVAL:P3D
CALSCALE:GREGORIAN
BEGIN:VEVENT
DTSTART:20201113T170000Z
DTEND:20201113T190000Z
X-MICROSOFT-CDO-ALLDAYEVENT:FALSE
SUMMARY:Peoria Pivot Academy
DESCRIPTION:Peoria Pivot Academy\n\n \n\nThis is a Powerful 2-Day Virtual Content Strategy Workshop for small business owners to get you\, your business\, and your sanity to the other side of COVID and beyond.\n\n \n\nYou've had to take your business a new direction to survive 'Rona. That requires new skills and new language.\n\n \n\nLearn what to say and where to say it to generate profits. Previous graduates report a 100% ROI on this workshop within 24 hours!\n\n \n\nTaught by bestselling author and small business owner Sheila Amir\, who's known for doing the most with the least.\n\n \n\nTHE PROBLEM:\n\n2020. The Rona. As a business owner\, you're having to navigate all this chaos while constantly pivoting in new directions\, implementing new safety policies\, and deciphering all the PPP\, EIDL\, and BS.\n\n \n\nYou're busy watching your operating budget dwindle and your debt grows. It's hard to find the time\, let alone the words\, to promote your products and services.\n\n \n\nYour brain is fried. You don't know what to say. And what you are saying isn't getting the sales you desperately need. Plus you're worried that if you say the wrong thing you'll get canceled.\n\n \n\nReal-talk and tough-love\; the problem many business owners don't see is what you're saying on your social media\, website\, and emails is coming across as frantic. It's repelling your customers.\n\n \n\nTHE SOLUTION:\n\nEnroll in the Peoria Pivot Academy.\n\n \n\nYou'll learn *EXACTLY* what to say on your website\, social media\, emails\, and even your invoices to get money in the bank.\n\n \n\nYou'll know what to say to attract paying\, recurring customers your LOVE\, and repel nightmare customers.\n\n \n\nWe start with creating your plan to get a 100% ROI on your Peoria Pivot Academy Tuition\, unearthing the money that is right in front of you\, and freeing up 4+ hours of your week.\n\n \n\nTHE SYLLABUS \n\n*You can implement and monetize every lesson immediately.*\n\n\n\nThursday\, November 12th\, 2020\n\n	Topic 1 | You are here. Mapping out your success.\n	Topic 2 | Writing sales copy that sells.\n	Topic 3 | Customer Experience: Let it be easy.\n\nFriday\, November 13th\, 2020\n\n\n	Topic 4 | Social Media. Profits over popularity.\n	Topic 5 | There's money in difficult communication.\n	Topic 6 | Put a bow on it. Use your words strategically.\n\n \n\nSheila Amir Bio\n\nSheila is a bestselling author\, creator\, and CEO of The Bulls of Durham. She KNOWS how to pivot. All her education and the first decade of her career she was a nutritionist specializing in pain management in Wyoming of all places. She's now the CEO of a Publishing and Digital Media company she grew from $0 and zero connections to a thriving 6-figure business in Durham\, North Carolina.\n\n \n\nDescription of Business\n\nThe Bulls of Durham Publishing and Digital Media company exists to pass the mic. We help small business owners own their narrative because when you own your narrative you decide when and how your story ends. That's the very definition of a boss
X-ALT-DESC;FMTTYPE=text/html:<span style="font-family:arial\;"><strong>Peoria Pivot Academy</strong><br />\n&nbsp\;<br />\nThis is a Powerful 2-Day Virtual Content Strategy Workshop for small business owners to get you\, your business\, and your sanity to the other side of COVID and beyond.<br />\n&nbsp\;<br />\nYou&rsquo\;ve had to take your business a new direction to survive &#39\;Rona. That requires new skills and new language.<br />\n&nbsp\;<br />\nLearn what to say and where to say it to generate profits. Previous graduates report a 100% ROI on this workshop within 24 hours!<br />\n&nbsp\;<br />\nTaught by bestselling author and small business owner Sheila Amir\, who&rsquo\;s known for doing the most with the least.<br />\n&nbsp\;<br />\n<strong>THE PROBLEM:</strong><br />\n2020. The Rona. As a business owner\, you&rsquo\;re having to navigate all this chaos while constantly pivoting in new directions\, implementing new safety policies\, and deciphering all the PPP\, EIDL\, and BS.<br />\n&nbsp\;<br />\nYou&rsquo\;re busy watching your operating budget dwindle and your debt grows. It&rsquo\;s hard to find the time\, let alone the words\, to promote your products and services.<br />\n&nbsp\;<br />\nYour brain is fried. You don&rsquo\;t know what to say. And what you are saying isn&rsquo\;t getting the sales you desperately need. Plus you&rsquo\;re worried that if you say the wrong thing you&rsquo\;ll get canceled.<br />\n&nbsp\;<br />\nReal-talk and tough-love\; the problem many business owners don&rsquo\;t see is what you&rsquo\;re saying on your social media\, website\, and emails is coming across as frantic. It&rsquo\;s repelling your customers.<br />\n&nbsp\;<br />\n<strong>THE SOLUTION:</strong><br />\nEnroll in the Peoria Pivot Academy.<br />\n&nbsp\;<br />\nYou&rsquo\;ll learn *EXACTLY* what to say on your website\, social media\, emails\, and even your invoices to get money in the bank.<br />\n&nbsp\;<br />\nYou&rsquo\;ll know what to say to attract paying\, recurring customers your LOVE\, and repel nightmare customers.<br />\n&nbsp\;<br />\nWe start with creating your plan to get a 100% ROI on your Peoria Pivot Academy Tuition\, unearthing the money that is right in front of you\, and freeing up 4+ hours of your week.<br />\n&nbsp\;<br />\n<strong>THE SYLLABUS</strong>&nbsp\;<br />\n*You can implement and monetize every lesson immediately.*<br />\n<br />\n<strong>Thursday\, November 12th\, 2020</strong></span>\n<ul>\n	<li><span style="font-family:arial\;">Topic 1 | You are here. Mapping out your success.</span></li>\n	<li><span style="font-family:arial\;">Topic 2 | Writing sales copy that sells.</span></li>\n	<li><span style="font-family:arial\;">Topic 3 | Customer Experience: Let it be easy.</span></li>\n</ul>\n<span style="font-family:arial\;"><strong>Friday\, November 13th\, 2020</strong></span>\n\n<ul>\n	<li><span style="font-family:arial\;">Topic 4 | Social Media. Profits over popularity.</span></li>\n	<li><span style="font-family:arial\;">Topic 5 | There&rsquo\;s money in difficult communication.</span></li>\n	<li><span style="font-family:arial\;">Topic 6 | Put a bow on it. Use your words strategically.</span></li>\n</ul>\n<span style="font-family:arial\;">&nbsp\;<br />\n<span style="font-size:12px\;"><strong>Sheila Amir Bio</strong><br />\nSheila is a bestselling author\, creator\, and CEO of The Bulls of Durham. She KNOWS how to pivot. All her education and the first decade of her career she was a nutritionist specializing in pain management in Wyoming of all places. She&rsquo\;s now the CEO of a Publishing and Digital Media company she grew from $0 and zero connections to a thriving 6-figure business in Durham\, North Carolina.<br />\n&nbsp\;<br />\n<strong>Description of Business</strong><br />\nThe Bulls of Durham Publishing and Digital Media company exists to pass the mic. We help small business owners own their narrative because when you own your narrative you decide when and how your story ends. That&rsquo\;s the very definition of a boss&nbsp\;</span></span>
LOCATION:Virtual via Zoom
UID:e.1773.19204
SEQUENCE:3
DTSTAMP:20260419T214214Z
URL:https://business.peoriachamber.org/events/details/peoria-pivot-academy-11-13-2020-19204
END:VEVENT

END:VCALENDAR
