BEGIN:VCALENDAR
VERSION:2.0
PRODID:-//ChamberMaster//Event Calendar 2.0//EN
METHOD:PUBLISH
X-PUBLISHED-TTL:P3D
REFRESH-INTERVAL:P3D
CALSCALE:GREGORIAN
BEGIN:VEVENT
DTSTART:19800101T060000Z
DTEND:19800101T060000Z
X-MICROSOFT-CDO-ALLDAYEVENT:FALSE
SUMMARY:Power Breakfast 1997
DESCRIPTION:Power Breakfast 1997
X-ALT-DESC;FMTTYPE=text/html:Power Breakfast 1997                                                                                
LOCATION:
UID:e.1773.772
SEQUENCE:3
DTSTAMP:20260421T225754Z
URL:https://business.peoriachamber.org/events/details/power-breakfast-1997-01-01-1980-772
END:VEVENT

END:VCALENDAR
