BEGIN:VCALENDAR
VERSION:2.0
PRODID:-//ChamberMaster//Event Calendar 2.0//EN
METHOD:PUBLISH
X-PUBLISHED-TTL:P3D
REFRESH-INTERVAL:P3D
CALSCALE:GREGORIAN
BEGIN:VEVENT
DTSTART:20201109T150000Z
DTEND:20201109T160000Z
X-MICROSOFT-CDO-ALLDAYEVENT:FALSE
SUMMARY:Preschool Art Fun
DESCRIPTION:Preschool Art Fun Instructor: Nikki Wheeler Department: Kids This class provides a fun and dynamic way for PreSchool-Age and Pre-K children to develop their own creativity\, sharpen fine motor skills\, and build confidence while meeting new friends. We'll explore many different ways to create\, getting our hands into lots of different mediums: Paint\, Clay\, Collage\, & more- to create special & unique works of art! Parents are encouraged to stay during the class in our waiting area. Ages 3-5\, Preschool or Pre-K (Must be potty-trained!) Monday mornings 9:00- 10:00 am November 9- November 30\, 2020 Cost $75 All materials provided by the Peoria Art Guild
X-ALT-DESC;FMTTYPE=text/html:Preschool Art Fun Instructor: Nikki Wheeler Department: Kids This class provides a fun and dynamic way for PreSchool-Age and Pre-K children to develop their own creativity\, sharpen fine motor skills\, and build confidence while meeting new friends. We&rsquo\;ll explore many different ways to create\, getting our hands into lots of different mediums: Paint\, Clay\, Collage\, &amp\; more- to create special &amp\; unique works of art! Parents are encouraged to stay during the class in our waiting area. Ages 3-5\, Preschool or Pre-K (Must be potty-trained!) Monday mornings 9:00- 10:00 am November 9- November 30\, 2020 Cost $75 All materials provided by the Peoria Art Guild
LOCATION:Peoria Art Guild 203 Harrison St Peoria\, IL 61602
UID:e.1773.19171
SEQUENCE:3
DTSTAMP:20260420T050826Z
URL:https://business.peoriachamber.org/events/details/preschool-art-fun-19171
END:VEVENT

END:VCALENDAR
