BEGIN:VCALENDAR
VERSION:2.0
PRODID:-//ChamberMaster//Event Calendar 2.0//EN
METHOD:PUBLISH
X-PUBLISHED-TTL:P3D
REFRESH-INTERVAL:P3D
CALSCALE:GREGORIAN
BEGIN:VEVENT
DTSTART:20250713T160000Z
DTEND:20250727T180000Z
X-MICROSOFT-CDO-ALLDAYEVENT:FALSE
SUMMARY:Relief Printing July 13-27\, 2025
DESCRIPTION:In this workshop\, you will learn the basics of relief carving and printing using blocks and relief gouges. Students will see examples of various work from different artists\, experiment with carving and inking a block\, and create an edition of their own prints. They will also have the chance to use an etching press and work in a print studio. Ages 18+
X-ALT-DESC;FMTTYPE=text/html:In this workshop\, you will learn the basics of relief carving and printing using blocks and relief gouges. Students will see examples of various work from different artists\, experiment with carving and inking a block\, and create an edition of their own prints. They will also have the chance to use an etching press and work in a print studio. Ages 18+
LOCATION:Peoria Art Guild Downtown Location 203 Harrison St Peoria\, IL\, IL 61602
UID:e.1773.22530
SEQUENCE:3
DTSTAMP:20260421T192359Z
URL:https://business.peoriachamber.org/events/details/relief-printing-july-13-27-2025-22530
END:VEVENT

END:VCALENDAR
