BEGIN:VCALENDAR
VERSION:2.0
PRODID:-//ChamberMaster//Event Calendar 2.0//EN
METHOD:PUBLISH
X-PUBLISHED-TTL:P3D
REFRESH-INTERVAL:P3D
CALSCALE:GREGORIAN
BEGIN:VEVENT
DTSTART:20250329T003000Z
DTEND:20250330T003000Z
X-MICROSOFT-CDO-ALLDAYEVENT:FALSE
SUMMARY:Remembering Janis Joplin
DESCRIPTION:A crowd favorite\, Remembering Janis Joplin\, returns to the Peoria Players stage after a well-received premiere in the summer of 2023. The show\, written and directed by Howard Gorman\, touches upon just a portion of this artist's amazing career. It stars Shannon Johnson as Janis Joplin. "Me and Bobby McGee\," "Little Girl Blue\," "Cry Baby" and of course\, "Piece of My Heart" are just a few selections you'll enjoy from her iconic song catalogue.
X-ALT-DESC;FMTTYPE=text/html:A crowd favorite\, Remembering Janis Joplin\, returns to the Peoria Players stage after a well-received premiere in the summer of 2023. The show\, written and directed by Howard Gorman\, touches upon just a portion of this artist&rsquo\;s amazing career. It stars Shannon Johnson as Janis Joplin. &quot\;Me and Bobby McGee\,&quot\; &quot\;Little Girl Blue\,&quot\; &quot\;Cry Baby&quot\; and of course\, &quot\;Piece of My Heart&quot\; are just a few selections you&#39\;ll enjoy from her iconic song catalogue.
LOCATION:Peoria Players Theatre 4300 N. University In Lakeview Park
UID:e.1773.22310
SEQUENCE:3
DTSTAMP:20260422T012707Z
URL:https://business.peoriachamber.org/events/details/remembering-janis-joplin-22310
END:VEVENT

END:VCALENDAR
