BEGIN:VCALENDAR
VERSION:2.0
PRODID:-//ChamberMaster//Event Calendar 2.0//EN
METHOD:PUBLISH
X-PUBLISHED-TTL:P3D
REFRESH-INTERVAL:P3D
CALSCALE:GREGORIAN
BEGIN:VEVENT
DTSTART:20250607T003000Z
DTEND:20250607T040000Z
X-MICROSOFT-CDO-ALLDAYEVENT:FALSE
SUMMARY:Salsa Lessons & DJ Dance Party
DESCRIPTION:Date: June 6\, 2025\nTime: 7:30 pm - 11:00 pm\nLocation: Mackinaw Valley Vineyard\nWELCOME TO THE FIRST SALSA NIGHT OF 2025! Put on your dancing shoes and come out for a great time with D.J. Israel\n\nCome out for our Salsa dance lessons and dance party\, you can come and watch or join in the fun!  Learn and love Salsa Dancing with D.J. Israel and friends.\n\nThe first hour is instruction\, and then guests are invited to stay for a social dance party with DJ Israel sharing his Latin dance music selections.\n\nBasic Lessons include Salsa\, Merengue\, Bachata\, Cha-Cha dance styles.\nMusic Genres to share will be\; Salsa\, Merengue\, Bachata\, Cumbia\, Cha-Cha\, R&B\, Shuf2024-fle and A Taste of Tango.\n\nSalsa Schedule:\n\n6:30-7:30pm arrival suggested\, wine tasting available in tasting room until 7:30pm and check-in at the pavilion or in the tasting room.\n\n7:30-8:30pm Salsa Dance lessons\n\n8:30-11:00 pm Salsa Dance Social open dancing with DJ Israel\n\n$10 per person admission to enter and it is paid whether or not  you are planning to dance\, this event is best for adults and older teens.\n\nAdmission includes\; group dance lessons\, DJ open dance social\, complimentary wine tasting for guests 21 and over until 7:30pm. Admission is paid by all attendees whether you dance or just watch the fun.\n\nRopp Jersey Cheese plates\, Chocolatier Chocolates and small snacks available for purchase and you may also bring snacks or food with you.  All beverages must be purchased at the vineyard\, we sell wine\, beer\, sodas\, tea and water.\n\nYou may reserve your spot in advance by calling 309-359-9463 or pay that evening when entering.  Comfortable footwear recommended\, ladies that prefer to wear high heels for dancing please be sure heel tips are in good condition. Event is held in our pavilion building area.
X-ALT-DESC;FMTTYPE=text/html:Date: June 6\, 2025\nTime: 7:30 pm - 11:00 pm\nLocation: Mackinaw Valley Vineyard\nWELCOME TO THE FIRST SALSA NIGHT OF 2025! Put on your dancing shoes and come out for a great time with D.J. Israel\n\nCome out for our Salsa dance lessons and dance party\, you can come and watch or join in the fun!  Learn and love Salsa Dancing with D.J. Israel and friends.\n\nThe first hour is instruction\, and then guests are invited to stay for a social dance party with DJ Israel sharing his Latin dance music selections.\n\nBasic Lessons include Salsa\, Merengue\, Bachata\, Cha-Cha dance styles.\nMusic Genres to share will be\; Salsa\, Merengue\, Bachata\, Cumbia\, Cha-Cha\, R&amp\;B\, Shuf2024-fle and A Taste of Tango.\n\nSalsa Schedule:\n\n6:30-7:30pm arrival suggested\, wine tasting available in tasting room until 7:30pm and check-in at the pavilion or in the tasting room.\n\n7:30-8:30pm Salsa Dance lessons\n\n8:30-11:00 pm Salsa Dance Social open dancing with DJ Israel\n\n$10 per person admission to enter and it is paid whether or not  you are planning to dance\, this event is best for adults and older teens.\n\nAdmission includes\; group dance lessons\, DJ open dance social\, complimentary wine tasting for guests 21 and over until 7:30pm. Admission is paid by all attendees whether you dance or just watch the fun.\n\nRopp Jersey Cheese plates\, Chocolatier Chocolates and small snacks available for purchase and you may also bring snacks or food with you.  All beverages must be purchased at the vineyard\, we sell wine\, beer\, sodas\, tea and water.\n\nYou may reserve your spot in advance by calling 309-359-9463 or pay that evening when entering.  Comfortable footwear recommended\, ladies that prefer to wear high heels for dancing please be sure heel tips are in good condition. Event is held in our pavilion building area.\n\n 
LOCATION:Mackinaw Valley Vineyard 33633 State Route 9 Mackinaw IL 61755
UID:e.1773.22504
SEQUENCE:3
DTSTAMP:20260421T203715Z
URL:https://business.peoriachamber.org/events/details/salsa-lessons-dj-dance-party-06-06-2025-22504
END:VEVENT

END:VCALENDAR
