BEGIN:VCALENDAR
VERSION:2.0
PRODID:-//ChamberMaster//Event Calendar 2.0//EN
METHOD:PUBLISH
X-PUBLISHED-TTL:P3D
REFRESH-INTERVAL:P3D
CALSCALE:GREGORIAN
BEGIN:VEVENT
DTSTART:20250923T160000Z
DTEND:20250923T180000Z
X-MICROSOFT-CDO-ALLDAYEVENT:FALSE
SUMMARY:State Legislative Luncheon
DESCRIPTION:Join us for the State Legislative Luncheon \, an essential event for the Peoria business community! This engaging luncheon offers the opportunity to hear directly from elected officials as they provide updates on key legislative issues impacting our region. Gain valuable insights into policies and initiatives that affect your business and discover ways to advocate for your interests.\n\nWhy Attend?\n\n\n	Hear from influential legislators about upcoming changes and opportunities.\n	Network with local professionals\, community leaders\, and decision-makers.\n	Take part in a collaborative discussion on the future of business in the Peoria area.\n\n\nItinerary\n\n\n	11:00 AM: Registration and Networking\n	11:15 AM: Lunch Served\n	11: 45 PM: Speaker Panel and Q&A\n	12:50 PM: Closing Remarks\n\n\nTickets\n\n\n	Chamber Members: $55\n	Non-Members: $100\n\n\nDon't miss this chance to connect with your peers and gain actionable knowledge to help grow and advocate for your business.\n\nReserve your spot today!\n\n\n\n \n\nThank You to Our Sponsors\n\n\n	\n	Homefield Energy\n	\n	\n	Peoria International Airport   Metropolitan Airport Authority of Peoria\n	\n\n\nFor more information or to register\, contact the Peoria Area Chamber of Commerce Event Director of Events swilliams@peoriachamber.org
X-ALT-DESC;FMTTYPE=text/html:<p>Join us for the <strong>State&nbsp\;Legislative Luncheon </strong><strong><span data-olk-copy-source="MessageBody" style="font-size: 10pt\; font-family: &quot\;Trebuchet MS&quot\;\, sans-serif\; color: rgb(64\, 64\, 64)\;">\,</span></strong>&nbsp\;an essential event for the Peoria business community! This engaging luncheon offers the opportunity to hear directly from elected officials as they provide updates on key legislative issues impacting our region. Gain valuable insights into policies and initiatives that affect your business and discover ways to advocate for your interests.</p>\n\n<h3><strong>Why Attend?</strong></h3>\n\n<ul>\n	<li>Hear from influential legislators about upcoming changes and opportunities.</li>\n	<li>Network with local professionals\, community leaders\, and decision-makers.</li>\n	<li>Take part in a collaborative discussion on the future of business in the Peoria area.</li>\n</ul>\n\n<h3><strong>Itinerary</strong></h3>\n\n<ul>\n	<li><strong>11:00 AM:</strong> Registration and Networking</li>\n	<li><strong>11:15&nbsp\;AM:</strong> Lunch Served</li>\n	<li><strong>11: 45 PM:</strong> Speaker Panel and Q&amp\;A</li>\n	<li><strong>12:50&nbsp\;PM:</strong> Closing Remarks</li>\n</ul>\n\n<h3><strong>Tickets</strong></h3>\n\n<ul>\n	<li><strong>Chamber Members:</strong> $55</li>\n	<li><strong>Non-Members:</strong> $100</li>\n</ul>\n\n<p>Don&rsquo\;t miss this chance to connect with your peers and gain actionable knowledge to help grow and advocate for your business.</p>\n\n<p><strong>Reserve your spot today!</strong><br />\n<br />\n&nbsp\;</p>\n\n<h3 data-end="1196" data-start="1165">Thank You to Our Sponsors</h3>\n\n<ul data-end="1301" data-start="1197">\n	<li data-end="1221" data-start="1197">\n	<p data-end="1221" data-start="1199"><strong data-end="1219" data-start="1199">Homefield Energy</strong></p>\n	</li>\n	<li data-end="1301" data-start="1222">\n	<p data-end="1301" data-start="1224"><strong data-end="1299" data-start="1224">Peoria International Airport &ndash\; Metropolitan Airport Authority of Peoria</strong></p>\n	</li>\n</ul>\n\n<p>For more information or to register\, contact the Peoria Area Chamber of Commerce Event Director of Events<strong> swilliams@peoriachamber.org&nbsp\;&nbsp\;</strong></p>\n
LOCATION:Peoria Marriott Pere Marquette | 501 Main Street\, Peoria\, IL 61602
UID:e.1773.22614
SEQUENCE:3
DTSTAMP:20260421T092811Z
URL:https://business.peoriachamber.org/events/details/state-legislative-luncheon-22614
END:VEVENT

END:VCALENDAR
