BEGIN:VCALENDAR
VERSION:2.0
PRODID:-//ChamberMaster//Event Calendar 2.0//EN
METHOD:PUBLISH
X-PUBLISHED-TTL:P3D
REFRESH-INTERVAL:P3D
CALSCALE:GREGORIAN
BEGIN:VEVENT
DTSTART:20250618T003000Z
DTEND:20250619T033000Z
X-MICROSOFT-CDO-ALLDAYEVENT:FALSE
SUMMARY:THE ADDAMS FAMILY
DESCRIPTION:A comical feast that embraces the wackiness in every family\, THE ADDAMS FAMILY is the magnificently macabre hit musical featuring everyone's favorite creepy\, kooky characters. Wednesday Addams\, the ultimate princess of darkness\, has grown up and fallen in love with a sweet\, smart young man from a respectable family. A man her parents have never met. And if that weren't upsetting enough\, she confides in her father and begs him not to tell her mother. Now\, Gomez Addams must do something he's never done before - keep a secret from his beloved wife\, Morticia. Everything will change for the whole family on the fateful night they host a dinner for Wednesday's "normal" boyfriend and his parents. On the heels of Wednesday\, the 3rd most-watched show on Netflix of all time\, Big League Productions\, Inc. presents THE ADDAMS FAMILY\, a devilishly delightful musical comedy based on the bizarre and beloved characters by legendary cartoonist Charles Addams.
X-ALT-DESC;FMTTYPE=text/html:A comical feast that embraces the wackiness in every family\, THE ADDAMS FAMILY is the magnificently macabre hit musical featuring everyone&rsquo\;s favorite creepy\, kooky characters. Wednesday Addams\, the ultimate princess of darkness\, has grown up and fallen in love with a sweet\, smart young man from a respectable family. A man her parents have never met. And if that weren&#39\;t upsetting enough\, she confides in her father and begs him not to tell her mother. Now\, Gomez Addams must do something he&#39\;s never done before - keep a secret from his beloved wife\, Morticia. Everything will change for the whole family on the fateful night they host a dinner for Wednesday&#39\;s &quot\;normal&quot\; boyfriend and his parents. On the heels of Wednesday\, the 3rd most-watched show on Netflix of all time\, Big League Productions\, Inc. presents THE ADDAMS FAMILY\, a devilishly delightful musical comedy based on the bizarre and beloved characters by legendary cartoonist Charles Addams.
LOCATION:Peoria Civic Center 201 SW Jefferson Ave Peoria\, IL 61602
UID:e.1773.21958
SEQUENCE:3
DTSTAMP:20260421T203736Z
URL:https://business.peoriachamber.org/events/details/the-addams-family-21958
END:VEVENT

END:VCALENDAR
