BEGIN:VCALENDAR
VERSION:2.0
PRODID:-//ChamberMaster//Event Calendar 2.0//EN
METHOD:PUBLISH
X-PUBLISHED-TTL:P3D
REFRESH-INTERVAL:P3D
CALSCALE:GREGORIAN
BEGIN:VEVENT
DTSTART:20251011T233000Z
DTEND:20251012T010000Z
X-MICROSOFT-CDO-ALLDAYEVENT:FALSE
SUMMARY:The Magic of Halloween
DESCRIPTION:Get ready for a night of thrills\, chills\, and musical magic at our annual The Magic of Halloween concert! Hosted by the Peoria Pops Orchestra\, this family-friendly event features spooky favorites\, enchanting melodies\, and a few surprises along the way. Join us on Saturday\, October 11 at 6:30 PM at Five Points in Washington for an unforgettable evening of live music and Halloween fun. Kids 12 and under who come in costume get in free\, so grab your witches hats\, animal ears\, or fairy wings and make it a night to remember. Costumes are encouraged for all ages\, and there will be treats\, photo ops\, and more. Whether you're into ghosts\, pumpkins\, or just great music\, there's something magical for everyone!
X-ALT-DESC;FMTTYPE=text/html:Get ready for a night of thrills\, chills\, and musical magic at our annual The Magic of Halloween concert! Hosted by the Peoria Pops Orchestra\, this family-friendly event features spooky favorites\, enchanting melodies\, and a few surprises along the way. Join us on Saturday\, October 11 at 6:30 PM at Five Points in Washington for an unforgettable evening of live music and Halloween fun. Kids 12 and under who come in costume get in free\, so grab your witches hats\, animal ears\, or fairy wings and make it a night to remember. Costumes are encouraged for all ages\, and there will be treats\, photo ops\, and more. Whether you&#39\;re into ghosts\, pumpkins\, or just great music\, there&#39\;s something magical for everyone!
LOCATION:Five Points Washington 360 N Wilmor Rd Washington\, IL 61571
UID:e.1773.22644
SEQUENCE:3
DTSTAMP:20260422T020044Z
URL:https://business.peoriachamber.org/events/details/the-magic-of-halloween-22644
END:VEVENT

END:VCALENDAR
