BEGIN:VCALENDAR
VERSION:2.0
PRODID:-//ChamberMaster//Event Calendar 2.0//EN
METHOD:PUBLISH
X-PUBLISHED-TTL:P3D
REFRESH-INTERVAL:P3D
CALSCALE:GREGORIAN
BEGIN:VEVENT
DTSTART:20200305T230000Z
DTEND:20200306T020000Z
X-MICROSOFT-CDO-ALLDAYEVENT:FALSE
SUMMARY:Thirsty Thursday at Kickapoo Creek Winery
DESCRIPTION:The Kickapoo Creek Winery Tasting Room is the place the first Thursday of the Month\n\nLive Music from 5-8 pm\n\nDrink Specials Each Week\n\n\n\nAny size group welcome\n\nDinner and appetizers can be arranged by special request for special groups\n\n\n\nCall 309-495-9463 Ext1
X-ALT-DESC;FMTTYPE=text/html:The <strong>Kickapoo Creek Winery Tasting Room </strong>is the place the first Thursday of the Month<br />\nLive Music from 5-8 pm<br />\nDrink Specials Each Week<br />\n<br />\nAny size group welcome<br />\nDinner and appetizers can be arranged by special request for special groups<br />\n<br />\nCall 309-495-9463 Ext1<br />\n&nbsp\;
LOCATION:Kickapoo Creek Winery Tasting Room 6605 N. Smith Road Edwards\, Il 61528
UID:e.1773.6643
SEQUENCE:3
DTSTAMP:20260419T140604Z
URL:https://business.peoriachamber.org/events/details/thirsty-thursday-at-kickapoo-creek-winery-03-05-2020-6643
END:VEVENT

END:VCALENDAR
