BEGIN:VCALENDAR
VERSION:2.0
PRODID:-//ChamberMaster//Event Calendar 2.0//EN
METHOD:PUBLISH
X-PUBLISHED-TTL:P3D
REFRESH-INTERVAL:P3D
CALSCALE:GREGORIAN
BEGIN:VEVENT
DTSTART:20251019T180000Z
DTEND:20251019T200000Z
X-MICROSOFT-CDO-ALLDAYEVENT:FALSE
SUMMARY:Trunk or Treat at Northwest UMC
DESCRIPTION:Northwest United Methodist Church's Annual Trunk or Treat is outdoors this year. If it rains\, we will move indoors. Come by in your best costume for fun and games AND .most importantly tons of candy!!!!
X-ALT-DESC;FMTTYPE=text/html:Northwest United Methodist Church&rsquo\;s Annual Trunk or Treat is outdoors this year. If it rains\, we will move indoors. Come by in your best costume for fun and games AND&hellip\;.most importantly tons of candy!!!!
LOCATION:Northwest United Methodist 3800 West War Memorial Dr Peoria\, IL 61615
UID:e.1773.22664
SEQUENCE:3
DTSTAMP:20260421T222340Z
URL:https://business.peoriachamber.org/events/details/trunk-or-treat-at-northwest-umc-22664
END:VEVENT

END:VCALENDAR
