BEGIN:VCALENDAR
VERSION:2.0
PRODID:-//ChamberMaster//Event Calendar 2.0//EN
METHOD:PUBLISH
X-PUBLISHED-TTL:P3D
REFRESH-INTERVAL:P3D
CALSCALE:GREGORIAN
BEGIN:VEVENT
DTSTART;VALUE=DATE:20250920
DTEND;VALUE=DATE:20250922
TRANSP:TRANSPARENT
X-MICROSOFT-CDO-ALLDAYEVENT:TRUE
SUMMARY:Vintage Illinois Wine Festival
DESCRIPTION:The state's largest Illinois wine festival returns to North Utica in 2025. The festival began in 2003\, and each year our following has gotten bigger and bigger. You'll enjoy some amazing music on stage\, while literally wine-ing through the event. Shop with local businesses and Canal Market vendors\, enjoy food at local restaurants and event food trucks  there's so much to do you'll want to make a weekend out of it. You'll find hiking trails and state parks all around. North Utica will be beautiful at this time of year and is a very walkable town\, with easy parking access just about everywhere you look.
X-ALT-DESC;FMTTYPE=text/html:The state&rsquo\;s largest Illinois wine festival returns to North Utica in 2025. The festival began in 2003\, and each year our following has gotten bigger and bigger. You&rsquo\;ll enjoy some amazing music on stage\, while literally wine-ing through the event. Shop with local businesses and Canal Market vendors\, enjoy food at local restaurants and event food trucks&hellip\; there&rsquo\;s so much to do you&rsquo\;ll want to make a weekend out of it. You&rsquo\;ll find hiking trails and state parks all around. North Utica will be beautiful at this time of year and is a very walkable town\, with easy parking access just about everywhere you look.
LOCATION:Carey Memorial Park\, W. Church Street\, Utica\, IL 61373
UID:e.1773.22640
SEQUENCE:3
DTSTAMP:20260421T194237Z
URL:https://business.peoriachamber.org/events/details/vintage-illinois-wine-festival-22640
END:VEVENT

END:VCALENDAR
