BEGIN:VCALENDAR
VERSION:2.0
PRODID:-//ChamberMaster//Event Calendar 2.0//EN
METHOD:PUBLISH
X-PUBLISHED-TTL:P3D
REFRESH-INTERVAL:P3D
CALSCALE:GREGORIAN
BEGIN:VEVENT
DTSTART:19800101T060000Z
DTEND:19800101T060000Z
X-MICROSOFT-CDO-ALLDAYEVENT:FALSE
SUMMARY:Washington Fly In 1997
DESCRIPTION:Washington Fly In 1997
X-ALT-DESC;FMTTYPE=text/html:Washington Fly In 1997                                                                              
LOCATION:
UID:e.1773.824
SEQUENCE:3
DTSTAMP:20260421T225752Z
URL:https://business.peoriachamber.org/events/details/washington-fly-in-1997-01-01-1980-824
END:VEVENT

END:VCALENDAR
