BEGIN:VCALENDAR
VERSION:2.0
PRODID:-//ChamberMaster//Event Calendar 2.0//EN
METHOD:PUBLISH
X-PUBLISHED-TTL:P3D
REFRESH-INTERVAL:P3D
CALSCALE:GREGORIAN
BEGIN:VEVENT
DTSTART:20250715T230000Z
DTEND:20250716T010000Z
X-MICROSOFT-CDO-ALLDAYEVENT:FALSE
SUMMARY:Watercolors July 15- Aug 19\, 2025
DESCRIPTION:This is a 6 week long course that runs every Tuesday from July 15 to August 19 at 6:00PM to 8:00PM. Learn the basics of watercolor or take your skills to the next level in the 6- week class for both beginners and intermediate watercolor artists. Learn the very basics of how to get pigment on paper\, understand how watercolor paint works\, explore the different types of paper\, brushes\, and create at least one painting per class. This 6-week class includes drawing lessons\, value sketches\, still life paintings\, and various studies on how to paint different types of objects.\nMaterials: All materials provided \nAges 16+
X-ALT-DESC;FMTTYPE=text/html:This is a 6 week long course that runs every Tuesday from July 15 to August 19 at 6:00PM to 8:00PM. Learn the basics of watercolor or take your skills to the next level in the 6- week class for both beginners and intermediate watercolor artists. Learn the very basics of how to get pigment on paper\, understand how watercolor paint works\, explore the different types of paper\, brushes\, and create at least one painting per class. This 6-week class includes drawing lessons\, value sketches\, still life paintings\, and various studies on how to paint different types of objects.\nMaterials: All materials provided \nAges 16+ \n
LOCATION:Peoria Art Guild at The Shoppes at the Grand Prairie 5201 West War Memorial Drive\, Peoria\, IL 61615\, USA
UID:e.1773.22573
SEQUENCE:3
DTSTAMP:20260421T192448Z
URL:https://business.peoriachamber.org/events/details/watercolors-july-15-aug-19-2025-22573
END:VEVENT

END:VCALENDAR
