BEGIN:VCALENDAR
VERSION:2.0
PRODID:-//ChamberMaster//Event Calendar 2.0//EN
METHOD:PUBLISH
X-PUBLISHED-TTL:P3D
REFRESH-INTERVAL:P3D
CALSCALE:GREGORIAN
BEGIN:VEVENT
DTSTART:20250821T003000Z
DTEND:20250901T033000Z
X-MICROSOFT-CDO-ALLDAYEVENT:FALSE
SUMMARY:WICKED
DESCRIPTION:So much happened before Dorothy dropped in. WICKED\, the Broadway sensation\, looks at what happened in the Land of Oz but from a different angle. Long before Dorothy arrives\, there is another young woman\, born with emerald-green skin smart\, fiery\, misunderstood\, and possessing an extraordinary talent. When she meets a bubbly blonde who is exceptionally popular\, their initial rivalry turns into the unlikeliest of friendships until the world decides to call one "good\," and the other one "wicked." From the first electrifying note to the final breathtaking moment\, WICKED the untold true story of the Witches of Oz transfixes audiences with its wildly inventive story. "If every musical had the brains\, heart and courage of WICKED\, Broadway really would be a magical place" (Time Magazine).
X-ALT-DESC;FMTTYPE=text/html:So much happened before Dorothy dropped in. WICKED\, the Broadway sensation\, looks at what happened in the Land of Oz&hellip\;but from a different angle. Long before Dorothy arrives\, there is another young woman\, born with emerald-green skin&mdash\;smart\, fiery\, misunderstood\, and possessing an extraordinary talent. When she meets a bubbly blonde who is exceptionally popular\, their initial rivalry turns into the unlikeliest of friendships&hellip\;until the world decides to call one &ldquo\;good\,&rdquo\; and the other one &ldquo\;wicked.&rdquo\; From the first electrifying note to the final breathtaking moment\, WICKED&mdash\;the untold true story of the Witches of Oz&mdash\;transfixes audiences with its wildly inventive story. &ldquo\;If every musical had the brains\, heart and courage of WICKED\, Broadway really would be a magical place&rdquo\; (Time Magazine).
LOCATION:Peoria Civic Center 201 SW Jefferson Ave Peoria\, IL 61602
UID:e.1773.21959
SEQUENCE:3
DTSTAMP:20260421T152623Z
URL:https://business.peoriachamber.org/events/details/wicked-21959
END:VEVENT

END:VCALENDAR
